Workbook

Sheet 전주시
B1: 지 적 공 부 등 록 지 현 황 (전주시)
B2: 전주시 | I2: <2014.12.31>
B3: 토지소재명 | C3: 합 계 | E3: 전 | G3: 답 | I3: 과수원 | K3: 목장용지 | M3: 임야 | O3: 광천지 | Q3: 염전 | S3: 대 | U3: 공장용지 | W3: 학교용지 | Y3: 주차장 | AA3: 주유소용지 | AC3: 창고용지 | AE3: 도로 | AG3: 철도용지 | AI3: 제방 | AK3: 하천 | AM3: 구거 | AO3: 유지 | AQ3: 양어장 | AS3: 수도용지 | AU3: 공원 | AW3: 체육용지 | AY3: 유원지 | BA3: 종교용지 | BC3: 사적지 | BE3: 묘지 | BG3: 잡종지
C4: 면적 | D4: 지번수 | E4: 면적 | F4: 지번수 | G4: 면적 | H4: 지번수 | I4: 면적 | J4: 지번수 | K4: 면적 | L4: 지번수 | M4: 면적 | N4: 지번수 | O4: 면적 | P4: 지번수 | Q4: 면적 | R4: 지번수 | S4: 면적 | T4: 지번수 | U4: 면적 | V4: 지번수 | W4: 면적 | X4: 지번수 | Y4: 면적 | Z4: 지번수 | AA4: 면적 | AB4: 지번수 | AC4: 면적 | AD4: 지번수 | AE4: 면적 | AF4: 지번수 | AG4: 면적 | AH4: 지번수 | AI4: 면적 | AJ4: 지번수 | AK4: 면적 | AL4: 지번수 | AM4: 면적 | AN4: 지번수 | AO4: 면적 | AP4: 지번수 | AQ4: 면적 | AR4: 지번수 | AS4: 면적 | AT4: 지번수 | AU4: 면적 | AV4: 지번수 | AW4: 면적 | AX4: 지번수 | AY4: 면적 | AZ4: 지번수 | BA4: 면적 | BB4: 지번수 | BC4: 면적 | BD4: 지번수 | BE4: 면적 | BF4: 지번수 | BG4: 면적 | BH4: 지번수
B5: 전주시 | C5: =SUM(C6:C7) -> 2.0556948e+08 | D5: =SUM(D6:D7) -> 192702 | E5: =SUM(E6:E7) -> 16976155 | F5: =SUM(F6:F7) -> 24125 | G5: =SUM(G6:G7) -> 40674451 | H5: =SUM(H6:H7) -> 27583 | I5: =SUM(I6:I7) -> 534557 | J5: =SUM(J6:J7) -> 260 | ... BH5: =SUM(BH6:BH7) -> 2376
B6: 완산구 | C6: =E6+G6+I6+K6+M6+O6+Q6+S6+U6+W6+Y6+AA6+AC6+AE6+AG6+AI6+AK6+AM6+AO6+AQ6+AS6+AU6+AW6+AY6+BA6+BC6+BE6+BG6 -> 94648821 | D6: =SUM(F6+H6+J6+L6+N6+P6+R6+T6+V6+X6+Z6+AB6+AD6+AF6+AH6+AJ6+AL6+AN6+AP6+AR6+AT6+AV6+AX6+AZ6+BB6+BD6+BF6+BH6) -> 91695 | E6: =완산구!E5 -> 5723874.3 | F6: =완산구!F5 -> 8899 | G6: =완산구!G5 -> 11894422 | H6: =완산구!H5 -> 9310 | I6: =완산구!I5 -> 270429 | J6: =완산구!J5 -> 127 | K6: =완산구!K5 -> 11352 | L6: =완산구!L5 -> 9 | ... BH6: =완산구!BH5 -> 900
B7: 덕진구 | C7: =E7+G7+I7+K7+M7+O7+Q7+S7+U7+W7+Y7+AA7+AC7+AE7+AG7+AI7+AK7+AM7+AO7+AQ7+AS7+AU7+AW7+AY7+BA7+BC7+BE7+BG7 -> 1.1092066e+08 | D7: =F7+H7+J7+L7+N7+P7+R7+T7+V7+X7+Z7+AB7+AD7+AF7+AH7+AJ7+AL7+AN7+AP7+AR7+AT7+AV7+AX7+AZ7+BB7+BD7+BF7+BH7 -> 101007 | E7: =덕진구!E5 -> 11252281 | F7: =덕진구!F5 -> 15226 | G7: =덕진구!G5 -> 28780029 | H7: =덕진구!H5 -> 18273 | I7: =덕진구!I5 -> 264128 | J7: =덕진구!J5 -> 133 | K7: =덕진구!K5 -> 119671 | L7: =덕진구!L5 -> 30 | ... BH7: =덕진구!BH5 -> 1476

Sheet 완산구
B1: 지 적 공 부 등 록 지 현 황 (완산구)
I2: <2014.12.31>
B3: 토지소재명 | C3: 합 계 | E3: 전 | G3: 답 | I3: 과수원 | K3: 목장용지 | M3: 임야 | O3: 광천지 | Q3: 염전 | S3: 대 | U3: 공장용지 | W3: 학교용지 | Y3: 주차장 | AA3: 주유소용지 | AC3: 창고용지 | AE3: 도로 | AG3: 철도용지 | AI3: 제방 | AK3: 하천 | AM3: 구거 | AO3: 유지 | AQ3: 양어장 | AS3: 수도용지 | AU3: 공원 | AW3: 체육용지 | AY3: 유원지 | BA3: 종교용지 | BC3: 사적지 | BE3: 묘지 | BG3: 잡종지
C4: 면적 | D4: 지번수 | E4: 면적 | F4: 지번수 | G4: 면적 | H4: 지번수 | I4: 면적 | J4: 지번수 | K4: 면적 | L4: 지번수 | M4: 면적 | N4: 지번수 | O4: 면적 | P4: 지번수 | Q4: 면적 | R4: 지번수 | S4: 면적 | T4: 지번수 | U4: 면적 | V4: 지번수 | W4: 면적 | X4: 지번수 | Y4: 면적 | Z4: 지번수 | AA4: 면적 | AB4: 지번수 | AC4: 면적 | AD4: 지번수 | AE4: 면적 | AF4: 지번수 | AG4: 면적 | AH4: 지번수 | AI4: 면적 | AJ4: 지번수 | AK4: 면적 | AL4: 지번수 | AM4: 면적 | AN4: 지번수 | AO4: 면적 | AP4: 지번수 | AQ4: 면적 | AR4: 지번수 | AS4: 면적 | AT4: 지번수 | AU4: 면적 | AV4: 지번수 | AW4: 면적 | AX4: 지번수 | AY4: 면적 | AZ4: 지번수 | BA4: 면적 | BB4: 지번수 | BC4: 면적 | BD4: 지번수 | BE4: 면적 | BF4: 지번수 | BG4: 면적 | BH4: 지번수
B5: 완산구 | C5: =SUM(C6:C52) -> 94648821 | D5: =SUM(D6:D52) -> 91695 | E5: =SUM(E6:E52) -> 5723874.3 | F5: =SUM(F6:F52) -> 8899 | G5: =SUM(G6:G52) -> 11894422 | H5: =SUM(H6:H52) -> 9310 | I5: =SUM(I6:I52) -> 270429 | J5: =SUM(J6:J52) -> 127 | ... BH5: =SUM(BH6:BH52) -> 900
B6: 중앙동1가 | C6: 40347.3 | D6: 198 | E6: 0 | F6: 0 | G6: 0 | H6: 0 | I6: 0 | J6: 0 | K6: 0 | L6: 0 | M6: 0 | N6: 0 | O6: 0 | P6: 0 | Q6: 0 | R6: 0 | S6: 22437 | T6: 151 | U6: 0 | V6: 0 | W6: 0 | X6: 0 | Y6: 541.6 | Z6: 4 | AA6: 0 | AB6: 0 | AC6: 0 | AD6: 0 | AE6: 17368.7 | AF6: 43 | AG6: 0 | AH6: 0 | AI6: 0 | AJ6: 0 | AK6: 0 | AL6: 0 | AM6: 0 | AN6: 0 | AO6: 0 | AP6: 0 | AQ6: 0 | AR6: 0 | AS6: 0 | AT6: 0 | AU6: 0 | AV6: 0 | AW6: 0 | AX6: 0 | AY6: 0 | AZ6: 0 | BA6: 0 | BB6: 0 | BC6: 0 | BD6: 0 | BE6: 0 | BF6: 0 | BG6: 0 | BH6: 0
B7: 중앙동2가 | C7: 38264.2 | D7: 139 | E7: 0 | F7: 0 | G7: 0 | H7: 0 | I7: 0 | J7: 0 | K7: 0 | L7: 0 | M7: 0 | N7: 0 | O7: 0 | P7: 0 | Q7: 0 | R7: 0 | S7: 21019.2 | T7: 122 | U7: 0 | V7: 0 | W7: 0 | X7: 0 | Y7: 0 | Z7: 0 | AA7: 0 | AB7: 0 | AC7: 0 | AD7: 0 | AE7: 17245 | AF7: 17 | AG7: 0 | AH7: 0 | AI7: 0 | AJ7: 0 | AK7: 0 | AL7: 0 | AM7: 0 | AN7: 0 | AO7: 0 | AP7: 0 | AQ7: 0 | AR7: 0 | AS7: 0 | AT7: 0 | AU7: 0 | AV7: 0 | AW7: 0 | AX7: 0 | AY7: 0 | AZ7: 0 | BA7: 0 | BB7: 0 | BC7: 0 | BD7: 0 | BE7: 0 | BF7: 0 | BG7: 0 | BH7: 0
B8: 중앙동3가 | C8: 45912.3 | D8: 210 | E8: 0 | F8: 0 | G8: 0 | H8: 0 | I8: 0 | J8: 0 | K8: 0 | L8: 0 | M8: 0 | N8: 0 | O8: 0 | P8: 0 | Q8: 0 | R8: 0 | S8: 26263 | T8: 173 | U8: 0 | V8: 0 | W8: 0 | X8: 0 | Y8: 0 | Z8: 0 | AA8: 0 | AB8: 0 | AC8: 0 | AD8: 0 | AE8: 19649.3 | AF8: 37 | AG8: 0 | AH8: 0 | AI8: 0 | AJ8: 0 | AK8: 0 | AL8: 0 | AM8: 0 | AN8: 0 | AO8: 0 | AP8: 0 | AQ8: 0 | AR8: 0 | AS8: 0 | AT8: 0 | AU8: 0 | AV8: 0 | AW8: 0 | AX8: 0 | AY8: 0 | AZ8: 0 | BA8: 0 | BB8: 0 | BC8: 0 | BD8: 0 | BE8: 0 | BF8: 0 | BG8: 0 | BH8: 0
B9: 중앙동4가 | C9: 99306.7 | D9: 276 | E9: 0 | F9: 0 | G9: 0 | H9: 0 | I9: 0 | J9: 0 | K9: 0 | L9: 0 | M9: 0 | N9: 0 | O9: 0 | P9: 0 | Q9: 0 | R9: 0 | S9: 67511.8 | T9: 213 | U9: 0 | V9: 0 | W9: 0 | X9: 0 | Y9: 168.6 | Z9: 1 | AA9: 0 | AB9: 0 | AC9: 0 | AD9: 0 | AE9: 30062.8 | AF9: 58 | AG9: 0 | AH9: 0 | AI9: 0 | AJ9: 0 | AK9: 0 | AL9: 0 | AM9: 0 | AN9: 0 | AO9: 0 | AP9: 0 | AQ9: 0 | AR9: 0 | AS9: 0 | AT9: 0 | AU9: 0 | AV9: 0 | AW9: 0 | AX9: 0 | AY9: 0 | AZ9: 0 | BA9: 1563.5 | BB9: 4 | BC9: 0 | BD9: 0 | BE9: 0 | BF9: 0 | BG9: 0 | BH9: 0
B10: 경원동1가 | C10: 99518.6 | D10: 264 | E10: 0 | F10: 0 | G10: 0 | H10: 0 | I10: 0 | J10: 0 | K10: 0 | L10: 0 | M10: 0 | N10: 0 | O10: 0 | P10: 0 | Q10: 0 | R10: 0 | S10: 52445.6 | T10: 206 | U10: 0 | V10: 0 | W10: 0 | X10: 0 | Y10: 0 | Z10: 0 | AA10: 866.2 | AB10: 2 | AC10: 0 | AD10: 0 | AE10: 46046.1 | AF10: 54 | AG10: 0 | AH10: 0 | AI10: 0 | AJ10: 0 | AK10: 0 | AL10: 0 | AM10: 0 | AN10: 0 | AO10: 0 | AP10: 0 | AQ10: 0 | AR10: 0 | AS10: 0 | AT10: 0 | AU10: 0 | AV10: 0 | AW10: 0 | AX10: 0 | AY10: 0 | AZ10: 0 | BA10: 0 | BB10: 0 | BC10: 0 | BD10: 0 | BE10: 0 | BF10: 0 | BG10: 160.7 | BH10: 2
B11: 경원동2가 | C11: 37897.5 | D11: 205 | E11: 0 | F11: 0 | G11: 0 | H11: 0 | I11: 0 | J11: 0 | K11: 0 | L11: 0 | M11: 0 | N11: 0 | O11: 0 | P11: 0 | Q11: 0 | R11: 0 | S11: 25233.9 | T11: 161 | U11: 0 | V11: 0 | W11: 0 | X11: 0 | Y11: 348.8 | Z11: 2 | AA11: 0 | AB11: 0 | AC11: 0 | AD11: 0 | AE11: 11357.5 | AF11: 41 | AG11: 0 | AH11: 0 | AI11: 0 | AJ11: 0 | AK11: 0 | AL11: 0 | AM11: 0 | AN11: 0 | AO11: 0 | AP11: 0 | AQ11: 0 | AR11: 0 | AS11: 0 | AT11: 0 | AU11: 0 | AV11: 0 | AW11: 0 | AX11: 0 | AY11: 0 | AZ11: 0 | BA11: 957.3 | BB11: 1 | BC11: 0 | BD11: 0 | BE11: 0 | BF11: 0 | BG11: 0 | BH11: 0
B12: 경원동3가 | C12: 199493.6 | D12: 664 | E12: 19.8 | F12: 2 | G12: 57 | H12: 3 | I12: 0 | J12: 0 | K12: 0 | L12: 0 | M12: 0 | N12: 0 | O12: 0 | P12: 0 | Q12: 0 | R12: 0 | S12: 127260.6 | T12: 530 | U12: 0 | V12: 0 | W12: 0 | X12: 0 | Y12: 564.1 | Z12: 4 | AA12: 0 | AB12: 0 | AC12: 0 | AD12: 0 | AE12: 67178.5 | AF12: 111 | AG12: 6.6 | AH12: 1 | AI12: 0 | AJ12: 0 | AK12: 0 | AL12: 0 | AM12: 4248.3 | AN12: 12 | AO12: 0 | AP12: 0 | AQ12: 0 | AR12: 0 | AS12: 0 | AT12: 0 | AU12: 0 | AV12: 0 | AW12: 0 | AX12: 0 | AY12: 0 | AZ12: 0 | BA12: 158.7 | BB12: 1 | BC12: 0 | BD12: 0 | BE12: 0 | BF12: 0 | BG12: 0 | BH12: 0
B13: 풍남동1가 | C13: 51499.4 | D13: 281 | E13: 0 | F13: 0 | G13: 0 | H13: 0 | I13: 0 | J13: 0 | K13: 0 | L13: 0 | M13: 0 | N13: 0 | O13: 0 | P13: 0 | Q13: 0 | R13: 0 | S13: 30994.9 | T13: 214 | U13: 0 | V13: 0 | W13: 0 | X13: 0 | Y13: 0 | Z13: 0 | AA13: 0 | AB13: 0 | AC13: 0 | AD13: 0 | AE13: 20504.5 | AF13: 67 | AG13: 0 | AH13: 0 | AI13: 0 | AJ13: 0 | AK13: 0 | AL13: 0 | AM13: 0 | AN13: 0 | AO13: 0 | AP13: 0 | AQ13: 0 | AR13: 0 | AS13: 0 | AT13: 0 | AU13: 0 | AV13: 0 | AW13: 0 | AX13: 0 | AY13: 0 | AZ13: 0 | BA13: 0 | BB13: 0 | BC13: 0 | BD13: 0 | BE13: 0 | BF13: 0 | BG13: 0 | BH13: 0
B14: 풍남동2가 | C14: 33316.7 | D14: 206 | E14: 0 | F14: 0 | G14: 0 | H14: 0 | I14: 0 | J14: 0 | K14: 0 | L14: 0 | M14: 0 | N14: 0 | O14: 0 | P14: 0 | Q14: 0 | R14: 0 | S14: 27528.8 | T14: 160 | U14: 0 | V14: 0 | W14: 0 | X14: 0 | Y14: 0 | Z14: 0 | AA14: 0 | AB14: 0 | AC14: 0 | AD14: 0 | AE14: 5787.9 | AF14: 46 | AG14: 0 | AH14: 0 | AI14: 0 | AJ14: 0 | AK14: 0 | AL14: 0 | AM14: 0 | AN14: 0 | AO14: 0 | AP14: 0 | AQ14: 0 | AR14: 0 | AS14: 0 | AT14: 0 | AU14: 0 | AV14: 0 | AW14: 0 | AX14: 0 | AY14: 0 | AZ14: 0 | BA14: 0 | BB14: 0 | BC14: 0 | BD14: 0 | BE14: 0 | BF14: 0 | BG14: 0 | BH14: 0
B15: 풍남동3가 | C15: 236200.1 | D15: 860 | E15: 3623 | F15: 33 | G15: 0 | H15: 0 | I15: 0 | J15: 0 | K15: 0 | L15: 0 | M15: 0 | N15: 0 | O15: 0 | P15: 0 | Q15: 0 | R15: 0 | S15: 97495.4 | T15: 661 | U15: 0 | V15: 0 | W15: 37801.6 | X15: 7 | Y15: 0 | Z15: 0 | AA15: 0 | AB15: 0 | AC15: 0 | AD15: 0 | AE15: 66438.3 | AF15: 148 | AG15: 0 | AH15: 0 | AI15: 0 | AJ15: 0 | AK15: 0 | AL15: 0 | AM15: 682.2 | AN15: 6 | AO15: 0 | AP15: 0 | AQ15: 0 | AR15: 0 | AS15: 0 | AT15: 0 | AU15: 0 | AV15: 0 | AW15: 0 | AX15: 0 | AY15: 0 | AZ15: 0 | BA15: 4791 | BB15: 2 | BC15: 25368.6 | BD15: 3 | BE15: 0 | BF15: 0 | BG15: 0 | BH15: 0
B16: 전동 | C16: 157551.8 | D16: 869 | E16: 0 | F16: 0 | G16: 0 | H16: 0 | I16: 0 | J16: 0 | K16: 0 | L16: 0 | M16: 0 | N16: 0 | O16: 0 | P16: 0 | Q16: 0 | R16: 0 | S16: 94094.7 | T16: 710 | U16: 0 | V16: 0 | W16: 0 | X16: 0 | Y16: 966.9 | Z16: 5 | AA16: 0 | AB16: 0 | AC16: 0 | AD16: 0 | AE16: 41099.3 | AF16: 134 | AG16: 0 | AH16: 0 | AI16: 1642.1 | AJ16: 2 | AK16: 7678 | AL16: 9 | AM16: 0 | AN16: 0 | AO16: 0 | AP16: 0 | AQ16: 0 | AR16: 0 | AS16: 0 | AT16: 0 | AU16: 0 | AV16: 0 | AW16: 0 | AX16: 0 | AY16: 0 | AZ16: 0 | BA16: 11806.1 | BB16: 6 | BC16: 0 | BD16: 0 | BE16: 0 | BF16: 0 | BG16: 264.7 | BH16: 3
B17: 전동3가 | C17: 94503.3 | D17: 505 | E17: 0 | F17: 0 | G17: 0 | H17: 0 | I17: 0 | J17: 0 | K17: 0 | L17: 0 | M17: 0 | N17: 0 | O17: 0 | P17: 0 | Q17: 0 | R17: 0 | S17: 49666.4 | T17: 462 | U17: 0 | V17: 0 | W17: 0 | X17: 0 | Y17: 0 | Z17: 0 | AA17: 0 | AB17: 0 | AC17: 0 | AD17: 0 | AE17: 36146 | AF17: 39 | AG17: 0 | AH17: 0 | AI17: 2740.3 | AJ17: 1 | AK17: 5950.6 | AL17: 3 | AM17: 0 | AN17: 0 | AO17: 0 | AP17: 0 | AQ17: 0 | AR17: 0 | AS17: 0 | AT17: 0 | AU17: 0 | AV17: 0 | AW17: 0 | AX17: 0 | AY17: 0 | AZ17: 0 | BA17: 0 | BB17: 0 | BC17: 0 | BD17: 0 | BE17: 0 | BF17: 0 | BG17: 0 | BH17: 0
... B52: 서노송동 | C52: 432806 | D52: 2212 | E52: 4944 | F52: 41 | G52: 0 | H52: 0 | I52: 0 | J52: 0 | K52: 0 | L52: 0 | M52: 966 | N52: 12 | O52: 0 | P52: 0 | Q52: 0 | R52: 0 | S52: 260973 | T52: 1514 | U52: 0 | V52: 0 | W52: 0 | X52: 0 | Y52: 4596 | Z52: 8 | AA52: 0 | AB52: 0 | AC52: 0 | AD52: 0 | AE52: 127546 | AF52: 523 | AG52: 488 | AH52: 5 | AI52: 0 | AJ52: 0 | AK52: 0 | AL52: 0 | AM52: 13840 | AN52: 46 | AO52: 0 | AP52: 0 | AQ52: 0 | AR52: 0 | AS52: 182 | AT52: 2 | AU52: 0 | AV52: 0 | AW52: 0 | AX52: 0 | AY52: 0 | AZ52: 0 | BA52: 3235 | BB52: 14 | BC52: 0 | BD52: 0 | BE52: 0 | BF52: 0 | BG52: 16036 | BH52: 47

Sheet 덕진구
B1: 지 적 공 부 등 록 지 현 황 (덕진구)
I2: <2014.12.31>
B3: 토지소재명 | C3: 합 계 | E3: 전 | G3: 답 | I3: 과수원 | K3: 목장용지 | M3: 임야 | O3: 광천지 | Q3: 염전 | S3: 대 | U3: 공장용지 | W3: 학교용지 | Y3: 주차장 | AA3: 주유소용지 | AC3: 창고용지 | AE3: 도로 | AG3: 철도용지 | AI3: 제방 | AK3: 하천 | AM3: 구거 | AO3: 유지 | AQ3: 양어장 | AS3: 수도용지 | AU3: 공원 | AW3: 체육용지 | AY3: 유원지 | BA3: 종교용지 | BC3: 사적지 | BE3: 묘지 | BG3: 잡종지
C4: 면적 | D4: 지번수 | E4: 면적 | F4: 지번수 | G4: 면적 | H4: 지번수 | I4: 면적 | J4: 지번수 | K4: 면적 | L4: 지번수 | M4: 면적 | N4: 지번수 | O4: 면적 | P4: 지번수 | Q4: 면적 | R4: 지번수 | S4: 면적 | T4: 지번수 | U4: 면적 | V4: 지번수 | W4: 면적 | X4: 지번수 | Y4: 면적 | Z4: 지번수 | AA4: 면적 | AB4: 지번수 | AC4: 면적 | AD4: 지번수 | AE4: 면적 | AF4: 지번수 | AG4: 면적 | AH4: 지번수 | AI4: 면적 | AJ4: 지번수 | AK4: 면적 | AL4: 지번수 | AM4: 면적 | AN4: 지번수 | AO4: 면적 | AP4: 지번수 | AQ4: 면적 | AR4: 지번수 | AS4: 면적 | AT4: 지번수 | AU4: 면적 | AV4: 지번수 | AW4: 면적 | AX4: 지번수 | AY4: 면적 | AZ4: 지번수 | BA4: 면적 | BB4: 지번수 | BC4: 면적 | BD4: 지번수 | BE4: 면적 | BF4: 지번수 | BG4: 면적 | BH4: 지번수
B5: 덕진구 | C5: =SUM(C6:C41) -> 1.1092066e+08 | D5: =SUM(D6:D41) -> 101007 | E5: =SUM(E6:E41) -> 11252281 | F5: =SUM(F6:F41) -> 15226 | G5: =SUM(G6:G41) -> 28780029 | H5: =SUM(H6:H41) -> 18273 | I5: =SUM(I6:I41) -> 264128 | J5: =SUM(J6:J41) -> 133 | ... BH5: =SUM(BH6:BH41) -> 1476
B6: 진북동 | C6: 1714911.2 | D6: 4491 | E6: 14481 | F6: 126 | G6: 3482 | H6: 30 | I6: 0 | J6: 0 | K6: 0 | L6: 0 | M6: 286185 | N6: 172 | O6: 0 | P6: 0 | Q6: 0 | R6: 0 | S6: 782318 | T6: 3455 | U6: 0 | V6: 0 | W6: 87668.7 | X6: 10 | Y6: 1004.4 | Z6: 6 | AA6: 4313.2 | AB6: 10 | AC6: 0 | AD6: 0 | AE6: 322723.2 | AF6: 498 | AG6: 0 | AH6: 0 | AI6: 33365 | AJ6: 54 | AK6: 134980 | AL6: 56 | AM6: 22525.3 | AN6: 19 | AO6: 0 | AP6: 0 | AQ6: 0 | AR6: 0 | AS6: 0 | AT6: 0 | AU6: 2608.6 | AV6: 2 | AW6: 0 | AX6: 0 | AY6: 0 | AZ6: 0 | BA6: 9677.3 | BB6: 13 | BC6: 0 | BD6: 0 | BE6: 0 | BF6: 0 | BG6: 9579.5 | BH6: 40
B7: 인후동1가 | C7: 2983747.7 | D7: 6902 | E7: 107434 | F7: 605 | G7: 23703 | H7: 111 | I7: 458 | J7: 5 | K7: 0 | L7: 0 | M7: 324591 | N7: 150 | O7: 0 | P7: 0 | Q7: 0 | R7: 0 | S7: 1669193 | T7: 4762 | U7: 513 | V7: 1 | W7: 153717.1 | X7: 19 | Y7: 2530.2 | Z7: 11 | AA7: 4156.8 | AB7: 11 | AC7: 0 | AD7: 0 | AE7: 593286.6 | AF7: 1005 | AG7: 0 | AH7: 0 | AI7: 0 | AJ7: 0 | AK7: 593 | AL7: 11 | AM7: 11654.8 | AN7: 65 | AO7: 1602 | AP7: 5 | AQ7: 0 | AR7: 0 | AS7: 192 | AT7: 1 | AU7: 43769.9 | AV7: 14 | AW7: 0 | AX7: 0 | AY7: 0 | AZ7: 0 | BA7: 24616 | BB7: 20 | BC7: 0 | BD7: 0 | BE7: 725 | BF7: 9 | BG7: 21012.3 | BH7: 97
B8: 인후동2가 | C8: 1301661.6 | D8: 3057 | E8: 53809 | F8: 286 | G8: 29397 | H8: 54 | I8: 0 | J8: 0 | K8: 0 | L8: 0 | M8: 126134 | N8: 8 | O8: 0 | P8: 0 | Q8: 0 | R8: 0 | S8: 514738.3 | T8: 2171 | U8: 0 | V8: 0 | W8: 335336.5 | X8: 33 | Y8: 4261.8 | Z8: 6 | AA8: 378 | AB8: 1 | AC8: 0 | AD8: 0 | AE8: 207341.5 | AF8: 464 | AG8: 0 | AH8: 0 | AI8: 0 | AJ8: 0 | AK8: 1253 | AL8: 1 | AM8: 3840 | AN8: 9 | AO8: 0 | AP8: 0 | AQ8: 0 | AR8: 0 | AS8: 6099 | AT8: 2 | AU8: 6371.2 | AV8: 2 | AW8: 0 | AX8: 0 | AY8: 0 | AZ8: 0 | BA8: 5383.4 | BB8: 9 | BC8: 0 | BD8: 0 | BE8: 652 | BF8: 9 | BG8: 6666.9 | BH8: 2
B9: 덕진동1가 | C9: 3126070.6 | D9: 2961 | E9: 109769 | F9: 240 | G9: 103503 | H9: 130 | I9: 0 | J9: 0 | K9: 0 | L9: 0 | M9: 1095609 | N9: 98 | O9: 0 | P9: 0 | Q9: 0 | R9: 0 | S9: 592729.2 | T9: 1730 | U9: 0 | V9: 0 | W9: 524110.4 | X9: 21 | Y9: 2145.5 | Z9: 8 | AA9: 1950.5 | AB9: 2 | AC9: 0 | AD9: 0 | AE9: 240259.8 | AF9: 451 | AG9: 2325.5 | AH9: 5 | AI9: 15665 | AJ9: 33 | AK9: 35709 | AL9: 19 | AM9: 21083 | AN9: 50 | AO9: 110564 | AP9: 9 | AQ9: 0 | AR9: 0 | AS9: 0 | AT9: 0 | AU9: 2366 | AV9: 1 | AW9: 121474 | AX9: 23 | AY9: 112028 | AZ9: 15 | BA9: 3311.3 | BB9: 3 | BC9: 0 | BD9: 0 | BE9: 0 | BF9: 0 | BG9: 31468.4 | BH9: 123
B10: 덕진동2가 | C10: 1652145.8 | D10: 2907 | E10: 145868 | F10: 352 | G10: 89035 | H10: 186 | I10: 3395 | J10: 4 | K10: 0 | L10: 0 | M10: 175148 | N10: 95 | O10: 0 | P10: 0 | Q10: 0 | R10: 0 | S10: 577656.3 | T10: 1444 | U10: 0 | V10: 0 | W10: 69358 | X10: 21 | Y10: 5555 | Z10: 12 | AA10: 4285 | AB10: 5 | AC10: 0 | AD10: 0 | AE10: 298374.8 | AF10: 531 | AG10: 0 | AH10: 0 | AI10: 23747 | AJ10: 107 | AK10: 188276.7 | AL10: 78 | AM10: 3660 | AN10: 11 | AO10: 3187 | AP10: 3 | AQ10: 0 | AR10: 0 | AS10: 0 | AT10: 0 | AU10: 46902 | AV10: 13 | AW10: 0 | AX10: 0 | AY10: 0 | AZ10: 0 | BA10: 7848 | BB10: 10 | BC10: 0 | BD10: 0 | BE10: 1621 | BF10: 5 | BG10: 8229 | BH10: 30
B11: 금암동 | C11: 2498399.3 | D11: 5759 | E11: 49204 | F11: 315 | G11: 22745 | H11: 94 | I11: 0 | J11: 0 | K11: 0 | L11: 0 | M11: 40421 | N11: 35 | O11: 0 | P11: 0 | Q11: 0 | R11: 0 | S11: 1088343.1 | T11: 4277 | U11: 0 | V11: 0 | W11: 759111 | X11: 15 | Y11: 2604.9 | Z11: 9 | AA11: 1533.5 | AB11: 2 | AC11: 376.5 | AD11: 1 | AE11: 477378.1 | AF11: 880 | AG11: 93 | AH11: 2 | AI11: 0 | AJ11: 0 | AK11: 7446 | AL11: 14 | AM11: 10231 | AN11: 33 | AO11: 906 | AP11: 12 | AQ11: 0 | AR11: 0 | AS11: 0 | AT11: 0 | AU11: 6608 | AV11: 2 | AW11: 0 | AX11: 0 | AY11: 0 | AZ11: 0 | BA11: 8017.6 | BB11: 17 | BC11: 0 | BD11: 0 | BE11: 99 | BF11: 2 | BG11: 23281.6 | BH11: 49
B12: 팔복동1가 | C12: 1278901 | D12: 1242 | E12: 82108 | F12: 179 | G12: 25735 | H12: 56 | I12: 535 | J12: 1 | K12: 0 | L12: 0 | M12: 0 | N12: 0 | O12: 0 | P12: 0 | Q12: 0 | R12: 0 | S12: 435057 | T12: 456 | U12: 229710 | V12: 79 | W12: 0 | X12: 0 | Y12: 1348 | Z12: 3 | AA12: 6703 | AB12: 10 | AC12: 8512 | AD12: 9 | AE12: 141102 | AF12: 268 | AG12: 11064 | AH12: 74 | AI12: 49560 | AJ12: 11 | AK12: 176483 | AL12: 4 | AM12: 23646 | AN12: 36 | AO12: 0 | AP12: 0 | AQ12: 0 | AR12: 0 | AS12: 0 | AT12: 0 | AU12: 0 | AV12: 0 | AW12: 0 | AX12: 0 | AY12: 0 | AZ12: 0 | BA12: 4743 | BB12: 1 | BC12: 0 | BD12: 0 | BE12: 0 | BF12: 0 | BG12: 82595 | BH12: 55
B13: 팔복동2가 | C13: 2330165.6 | D13: 2547 | E13: 182718 | F13: 455 | G13: 46441 | H13: 89 | I13: 0 | J13: 0 | K13: 0 | L13: 0 | M13: 33256 | N13: 25 | O13: 0 | P13: 0 | Q13: 0 | R13: 0 | S13: 535274 | T13: 1032 | U13: 915258.8 | V13: 133 | W13: 0 | X13: 0 | Y13: 6614.7 | Z13: 7 | AA13: 2273 | AB13: 3 | AC13: 32474 | AD13: 27 | AE13: 311396.8 | AF13: 579 | AG13: 6704 | AH13: 23 | AI13: 32052 | AJ13: 11 | AK13: 66901 | AL13: 9 | AM13: 50163 | AN13: 84 | AO13: 13062.9 | AP13: 2 | AQ13: 0 | AR13: 0 | AS13: 1512.7 | AT13: 5 | AU13: 30051.7 | AV13: 11 | AW13: 0 | AX13: 0 | AY13: 0 | AZ13: 0 | BA13: 5295 | BB13: 6 | BC13: 0 | BD13: 0 | BE13: 2192 | BF13: 4 | BG13: 56525 | BH13: 42
B14: 팔복동3가 | C14: 1919855.3 | D14: 932 | E14: 149610 | F14: 196 | G14: 134402 | H14: 92 | I14: 0 | J14: 0 | K14: 0 | L14: 0 | M14: 347192 | N14: 96 | O14: 0 | P14: 0 | Q14: 0 | R14: 0 | S14: 90276.4 | T14: 132 | U14: 887584.5 | V14: 97 | W14: 0 | X14: 0 | Y14: 6618 | Z14: 9 | AA14: 8309.8 | AB14: 9 | AC14: 5638 | AD14: 5 | AE14: 164398.9 | AF14: 210 | AG14: 0 | AH14: 0 | AI14: 2034 | AJ14: 4 | AK14: 24204 | AL14: 11 | AM14: 1186 | AN14: 7 | AO14: 12602 | AP14: 15 | AQ14: 0 | AR14: 0 | AS14: 0 | AT14: 0 | AU14: 20722.8 | AV14: 1 | AW14: 0 | AX14: 0 | AY14: 0 | AZ14: 0 | BA14: 3613 | BB14: 3 | BC14: 0 | BD14: 0 | BE14: 0 | BF14: 0 | BG14: 61463.9 | BH14: 45
B15: 산정동 | C15: 2225956.7 | D15: 2189 | E15: 128592 | F15: 198 | G15: 802582 | H15: 679 | I15: 0 | J15: 0 | K15: 0 | L15: 0 | M15: 681654 | N15: 122 | O15: 0 | P15: 0 | Q15: 0 | R15: 0 | S15: 186778.2 | T15: 487 | U15: 9808 | V15: 4 | W15: 0 | X15: 0 | Y15: 1101.3 | Z15: 5 | AA15: 6765.8 | AB15: 8 | AC15: 4380 | AD15: 5 | AE15: 163254.9 | AF15: 365 | AG15: 69502 | AH15: 97 | AI15: 14524 | AJ15: 43 | AK15: 57136 | AL15: 52 | AM15: 54091 | AN15: 86 | AO15: 9378 | AP15: 5 | AQ15: 0 | AR15: 0 | AS15: 0 | AT15: 0 | AU15: 1500.1 | AV15: 1 | AW15: 0 | AX15: 0 | AY15: 0 | AZ15: 0 | BA15: 12142 | BB15: 5 | BC15: 0 | BD15: 0 | BE15: 102 | BF15: 2 | BG15: 22665.4 | BH15: 25
B16: 금상동 | C16: 8152002 | D16: 4072 | E16: 644430 | F16: 735 | G16: 1739878 | H16: 1405 | I16: 10534 | J16: 6 | K16: 98312 | L16: 9 | M16: 4787564 | N16: 451 | O16: 0 | P16: 0 | Q16: 0 | R16: 0 | S16: 169775 | T16: 375 | U16: 11643 | V16: 5 | W16: 0 | X16: 0 | Y16: 0 | Z16: 0 | AA16: 0 | AB16: 0 | AC16: 14746 | AD16: 15 | AE16: 245916 | AF16: 731 | AG16: 0 | AH16: 0 | AI16: 8024 | AJ16: 10 | AK16: 111120 | AL16: 105 | AM16: 205805 | AN16: 160 | AO16: 33155 | AP16: 27 | AQ16: 0 | AR16: 0 | AS16: 0 | AT16: 0 | AU16: 0 | AV16: 0 | AW16: 0 | AX16: 0 | AY16: 0 | AZ16: 0 | BA16: 10252 | BB16: 4 | BC16: 0 | BD16: 0 | BE16: 26375 | BF16: 13 | BG16: 34473 | BH16: 21
B17: 우아동1가 | C17: 11105267 | D17: 3340 | E17: 438477 | F17: 601 | G17: 570617 | H17: 610 | I17: 0 | J17: 0 | K17: 0 | L17: 0 | M17: 9079684 | N17: 788 | O17: 0 | P17: 0 | Q17: 0 | R17: 0 | S17: 206328.3 | T17: 601 | U17: 0 | V17: 0 | W17: 12844 | X17: 7 | Y17: 466 | Z17: 1 | AA17: 880 | AB17: 6 | AC17: 2431 | AD17: 2 | AE17: 135081.3 | AF17: 233 | AG17: 93629 | AH17: 82 | AI17: 23 | AJ17: 2 | AK17: 215405 | AL17: 192 | AM17: 121880.7 | AN17: 106 | AO17: 163433 | AP17: 66 | AQ17: 0 | AR17: 0 | AS17: 0 | AT17: 0 | AU17: 4631.3 | AV17: 3 | AW17: 6041 | AX17: 3 | AY17: 0 | AZ17: 0 | BA17: 10495.1 | BB17: 14 | BC17: 0 | BD17: 0 | BE17: 23246 | BF17: 7 | BG17: 19674 | BH17: 16
... B41: 남정동 | C41: 2815587.5 | D41: 1956 | E41: 404525 | F41: 497 | G41: 1889283.1 | H41: 769 | I41: 5747 | J41: 4 | K41: 12727 | L41: 13 | M41: 64929 | N41: 59 | O41: 0 | P41: 0 | Q41: 0 | R41: 0 | S41: 95030.2 | T41: 225 | U41: 0 | V41: 0 | W41: 0 | X41: 0 | Y41: 0 | Z41: 0 | AA41: 0 | AB41: 0 | AC41: 3302 | AD41: 3 | AE41: 141959.3 | AF41: 260 | AG41: 0 | AH41: 0 | AI41: 116 | AJ41: 2 | AK41: 20610 | AL41: 10 | AM41: 159249.4 | AN41: 96 | AO41: 5953 | AP41: 5 | AQ41: 5362.5 | AR41: 1 | AS41: 0 | AT41: 0 | AU41: 0 | AV41: 0 | AW41: 0 | AX41: 0 | AY41: 0 | AZ41: 0 | BA41: 0 | BB41: 0 | BC41: 0 | BD41: 0 | BE41: 3425 | BF41: 7 | BG41: 3369 | BH41: 5

Sheet Sheet1
