Workbook
Name _2: #N/A
Name _3: #N/A
Name \0: [2]결재판!#REF!
Name \0: [2]결재판!#REF!
Name \a: #N/A
Name \q: [2]결재판!#REF!
Name \q: [2]결재판!#REF!
Name \s: #N/A
Name \z: #N/A
Name A: #N/A
Name BTYPE: #N/A
Name BUNHO: #N/A
Name DANGA3: [3]단가표!$A$5:$BZ$1908
Name DANGA3: [3]단가표!$A$5:$BZ$1908
Name DANWI: #N/A
Name GCODE: #N/A
Name GPRIC: #N/A
Name GUBUN: #N/A
Name imdong: [4]c_balju!$K$2:$S$3355
Name imdong: [4]c_balju!$K$2:$S$3355
Name LPRIC: #N/A
Name MPRIC: #N/A
Name NEW: [2]결재판!#REF!
Name NEW: [2]결재판!#REF!
Name PNAME: #N/A
Name RYANG: #N/A
Name SCODE: #N/A
Name SPECI: #N/A
Name START: [2]결재판!#REF!
Name START: [2]결재판!#REF!
Name SUM: #N/A
Name 곡사명: [2]Total!#REF!
Name 곡사명: [2]Total!#REF!
Name 공기: [2]결재판!#REF!
Name 공기: [2]결재판!#REF!
Name 공사명: [2]결재판!#REF!
Name 공사명: [2]결재판!#REF!
Name 구미: [6]b_balju!$A$1:$R$5805
Name 기계원하: [7]안양건축!$A$1:$T$1346
Name 낙찰가: #N/A
Name 노무비: #REF!
Name 노임: #REF!
Name 단가: #REF!
Name 대구건축: [6]b_balju!$A$1:$R$5805
Name 면적: [2]결재판!#REF!
Name 면적: [2]결재판!#REF!
Name 목록: #REF!
Name 목록: #REF!
Name 목록: #REF!
Name 목록: #REF!
Name 목록1: #REF!
Name 목록1: #REF!
Name 목록1: #REF!
Name 목록1: #REF!
Name 보통인부: [8]노임!$C$85
Name 설계가: #N/A
Name 소: [9]내역서!$A$10:$I$1175
Name 소방제외: [7]안양건축!$A$1:$T$1346
Name 시험사2급: [8]노임!$C$107
Name 시험사3급: [8]노임!$C$108

Sheet 사업개요
A1: 사 업 개 요 서
A2: 가. 사업현황
A3: 구 분 | B3: 내 용 | E3: 비 고
A4: 1.사업명 | B4: 전주 00부대 이전부지 공동주택 9BL 신축공사
A5: 2.사업주체 | B5: 전주시 덕진구 도당산3길 8-4(우아동3가)
B6: (유)한백종합건설 대표이사 이 진 일
B7: TEL : 063-242-4110 FAX : 063-247-4130
A8: 3.설 계 자 | B8: 전주시 완산구 홍산남로 82, 서도타워 402호
B9: (주)율그룹건축사사무소 대표이사 강 문 수
B10: TEL : 063-226-2121 FAX : 063-226-2125
A11: 4.시 공 사 | B11: 서울시 종로구 종로 33 (청진동)
B12: 지에스건설(주) 대표이사 임 병 용
B13: TEL : 02-2154-4286 FAX : 02-2154-0863
A14: 5.사 업 개 요 | B14: ＊위 치 : 전주 00부대 이전부지 도시개발사업지구 공동9블록
B15: ＊전체공사기간 : 2016.10.01~2018.09.30 ( 24개월 )
B16: ＊전기공사기간 : 2016.12.01~2018.09.30 ( 22개월 )
B17: ＊대 지 면 적 : 27,923㎡
B18: ＊건 축 면 적 : 5,719.7310㎡
B19: ＊연 면 적 : 79,092.9431㎡
B20: ＊공 사 규 모 : 지하1층~지상20층 7개동 총 490세대
B21: ＊사업계획승인신청일 : 2016. 08. 05
B22: ＊사업계획승인일 : 2016. 08. 31
A24: 나. 총사업비 | E24: (단위:천원)
A25: 항 목 | C25: 금 액 | E25: 비 고
A26: 총 사 업 비 | C26: 150894990
A27: 대 지 비 | C27: 35288618
A28: 총 공 사 비 | C28: =C29+C30+C31 -> 88488400
A29: 가.건축감리대상공사비 | C29: =총괄표!E13 -> 71637722
A30: 나.전기감리대상공사비 | C30: =총괄표!F13 -> 7373318
A31: 다.타법감리대상공사비 | C31: =총괄표!G13 -> 9477360

Sheet 총괄표
A1: 총사업비 산출 총괄표
A2: 현장명 : | B2: 전주 00부대 이전부지 공동주택 9BL 신축공사 | H2: 단위 : 천원
A3: 구 분 | D3: 전 체 | E3: 감리대상(건축) | F3: 감리대상(전기) | G3: 타법감리 | H3: 비고
A4: 총공사비 | B4: 순공사비 | C4: 토목공사 | D4: =SUM(E4:F4) -> 5811918 | E4: =공사비현황표!D17 -> 5811918 | F4: 0
C5: 건축공사 | D5: =SUM(E5:F5) -> 49911850 | E5: =공사비현황표!D41 -> 49911850 | F5: 0
C6: 기계설비공사 | D6: =SUM(E6:F6)+G6 -> 9920520 | E6: =공사비현황표!D51 -> 9920520 | F6: 0
C7: 전기공사 | D7: =SUM(E7:G7) -> 6739085 | F7: =공사비현황표!F55 -> 6739085 | G7: =[15]공사비현황표!G52 -> 0
C8: 정보통신공사 | D8: =SUM(E8:G8) -> 4070466 | G8: =공사비현황표!G53 -> 4070466
C9: 소방설비공사 | D9: =SUM(E9:G9) -> 4424420 | G9: =공사비현황표!G54 -> 4424420
C10: 소 계 | D10: =SUM(D4:D9) -> 80878259 | E10: =SUM(E4:E9) -> 65644288 | F10: =SUM(F4:F9) -> 6739085 | G10: =SUM(G4:G9) -> 8494886
B11: 일반관리비 | D11: =SUM(E11:G11) -> 4513046 | E11: =공사비현황표!E56 -> 3554245 | F11: =공사비현황표!F56 -> 376171 | G11: =공사비현황표!G56 -> 582630
B12: 이 윤 | D12: =SUM(E12:G12) -> 3097095 | E12: =공사비현황표!E57 -> 2439189 | F12: =공사비현황표!F57 -> 258062 | G12: =공사비현황표!G57 -> 399844
B13: 소 계 | D13: =SUM(D10:D12) -> 88488400 | E13: =SUM(E10:E12) -> 71637722 | F13: =SUM(F10:F12) -> 7373318 | G13: =SUM(G10:G12) -> 9477360
A14: 간 접 비 | B14: 설 계 비 | D14: 717767
B15: 감 리 비 | D15: 2151907
B16: 일반분양시설 경비 | D16: 4513000
B17: 분담금 및 부담금 | D17: 576444
B18: 보 상 비 | D18: 0
B19: 기타 사업비성 경비 | D19: 16345035
B20: 소 계 | D20: =SUM(D14:D19) -> 24304153
A21: 대 지 비 | D21: 35288618
A22: 부가가치세액 | D22: 2813819
A23: 총 사 업 비 계 | D23: =D21+D20+D13+D22 -> 150894990

Sheet 공사비현황표
A1: 공종별 총공사비 구성 현황표
A2: =총괄표!A2 -> 현장명 : | B2: =총괄표!B2 -> 전주 00부대 이전부지 공동주택 9BL 신축공사 | G2: 단위 : 천원
A3: 구 분 | B3: 분 야 | C3: 공 종 | D3: 전체 | E3: 감리대상(건축) | F3: 감리대상(전기) | G3: 타법감리
A4: 순공사비 | B4: (13개공종) | C4: 토공사 | D4: =SUM(E4:G4) -> 1194824 | E4: 1194824
C5: 흙막이공사 | D5: =SUM(E5:G5) -> 815549 | E5: 815549
C6: 비탈면보호공사 | D6: =SUM(E6:G6) -> 174358 | E6: 174358
C7: 옹벽공사 | D7: =SUM(E7:G7) -> 327545 | E7: 327545
C8: 석축공사 | D8: =SUM(E8:G8) -> 0
C9: 우,오수공사 | D9: =SUM(E9:G9) -> 795594 | E9: 795594
C10: 공동구공사 | D10: =SUM(E10:G10) -> 0
C11: 지하저수조및급수공사 | D11: =SUM(E11:G11) -> 116237 | E11: 116237
C12: 도로포장공사 | D12: =SUM(E12:G12) -> 660193 | E12: 660193
C13: 교통안전시설물공사 | D13: =SUM(E13:G13) -> 30439 | E13: 30439
C14: 정화조시설공사 | D14: =SUM(E14:G14) -> 0
C15: 조경공사 | D15: =SUM(E15:G15) -> 1279641 | E15: 1279641
C16: 부대시설공사 | D16: =SUM(E16:G16) -> 417538 | E16: 417538
C17: 소 계 | D17: =SUM(D4:D16) -> 5811918 | E17: =SUM(E4:E16) -> 5811918 | F17: =SUM(F4:F16) -> 0 | G17: =SUM(G4:G16) -> 0
B18: 가시설물공사 | C18: 공통가설공사 | D18: =SUM(E18:G18) -> 3005214 | E18: 3005214
B19: (23개공종) | C19: 가시설물공사 | D19: =SUM(E19:G19) -> 949335 | E19: 949335
C20: 지정및기초공사 | D20: =SUM(E20:G20) -> 3881499 | E20: 3881499
C21: 철골공사 | D21: =SUM(E21:G21) -> 0
C22: 철근콘크리트공사 | D22: =SUM(E22:G22) -> 17778013 | E22: 17778013
C23: 용접공사 | D23: =SUM(E23:G23) -> 0
C24: 조적공사 | D24: =SUM(E24:G24) -> 646938 | E24: 646938
C25: 미장공사 | D25: =SUM(E25:G25) -> 2456453 | E25: 2456453
C26: 단열공사 | D26: =SUM(E26:G26) -> 426507 | E26: 426507
C27: 방수,방습공사 | D27: =SUM(E27:G27) -> 1135800 | E27: 1135800
C28: 목공사 | D28: =SUM(E28:G28) -> 1067189 | E28: 1067189
C29: 가구공사 | D29: =SUM(E29:G29) -> 2084419 | E29: 2084419
C30: 금속공사 | D30: =SUM(E30:G30) -> 901065 | E30: 901065
C31: 지붕및 홈통공사 | D31: =SUM(E31:G31) -> 945302 | E31: 945302
C32: 창호공사 | D32: =SUM(E32:G32) -> 4066035 | E32: 4066035
C33: 유리공사 | D33: =SUM(E33:G33) -> 1152220 | E33: 1152220
C34: 타일공사 | D34: =SUM(E34:G34) -> 1859490 | E34: 1859490
C35: 돌공사 | D35: =SUM(E35:G35) -> 991833 | E35: 991833
... C40: 잡공사 | D40: =SUM(E40:G40) -> 823467 | E40: 823467
C41: 소 계 | D41: =SUM(D18:D40) -> 49911850 | E41: =SUM(E18:E40) -> 49911850 | F41: =SUM(F18:F40) -> 0 | G41: =SUM(G18:G40) -> 0
B42: 기계설비 | C42: 급수설비공사 | D42: =SUM(E42:G42) -> 1280361 | E42: 1280361
B43: (9개공사) | C43: 급탕설비공사 | D43: =SUM(E43:G43) -> 889085 | E43: 889085
C44: 오배수 및 통기설비공사 | D44: =SUM(E44:G44) -> 821383 | E44: 821383
C45: 위생기구공사 | D45: =SUM(E45:G45) -> 2432704 | E45: 2432704
C46: 승강기기계공사 | D46: =SUM(E46:G46) -> 1918833 | E46: 1918833
C47: 난방설비공사 | D47: =SUM(E47:G47) -> 1841721 | E47: 1841721
C48: 가스설비공사 | D48: =SUM(E48:G48) -> 254878 | E48: 254878
C49: 자동제어설비공사 | D49: =SUM(E49:G49) -> 178214 | E49: 178214
C50: 특수설비공사 | D50: =SUM(E50:G50) -> 303341 | E50: 303341
C51: 소 계 | D51: =SUM(D42:D50) -> 9920520 | E51: =SUM(E42:E50) -> 9920520 | F51: =SUM(F42:F50) -> 0 | G51: =SUM(G42:G50) -> 0
B52: 전기(15개공사) | D52: =SUM(E52:G52) -> 6739085 | F52: 6739085
B53: 정보통신(13개공사) | D53: =SUM(E53:G53) -> 4070466 | G53: 4070466
B54: 소방설비(2개공사) | D54: =SUM(E54:G54) -> 4424420 | G54: 4424420
B55: 소계 | D55: =SUM(E55:G55) -> 80878259 | E55: =SUM(E17,E41,E51,E52,E53,E54) -> 65644288 | F55: =SUM(F17,F41,F51,F52,F53,F54) -> 6739085 | G55: =SUM(G17,G41,G51,G52,G53,G54) -> 8494886
A56: 일반관리비 | D56: =SUM(E56:G56) -> 4513046 | E56: 3554245 | F56: 376171 | G56: 582630
A57: 이 윤 | D57: =SUM(E57:G57) -> 3097095 | E57: 2439189 | F57: 258062 | G57: 399844
A58: 총공사비계 | D58: =SUM(D55:D57) -> 88488400 | E58: =SUM(E55:E57) -> 71637722 | F58: =SUM(F55:F57) -> 7373318 | G58: =SUM(G55:G57) -> 9477360

Sheet 예정공정표
A1: 감리원 배치 계획표
A3: ▣ 공 사 명 : | B3: 에코시티자이 9BL 신축공사
A4: ▣ 공 사 기 간 : | B4: 2016. 10 .01 ~ 2018. 09. 30 (24개월)
A5: 구분 | B5: 2016 | H5: 2017 | AF5: 2018 | AX5: 비고
B6: 10 | D6: 11 | F6: 12 | H6: 1 | J6: 2 | L6: 3 | N6: 4 | P6: 5 | R6: 6 | T6: 7 | V6: 8 | X6: 9 | Z6: 10 | AB6: 11 | AD6: 12 | AF6: 1 | AH6: 2 | AJ6: 3 | AL6: 4 | AN6: 5 | AP6: 6 | AR6: 7 | AT6: 8 | AV6: 9
B7: 1 | D7: 2 | F7: 3 | H7: 4 | J7: 5 | L7: 6 | N7: 7 | P7: 8 | R7: 9 | T7: 10 | V7: 11 | X7: 12 | Z7: 13 | AB7: 14 | AD7: 15 | AF7: 16 | AH7: 17 | AJ7: 18 | AL7: 19 | AN7: 20 | AP7: 21 | AR7: 22 | AT7: 23 | AV7: 24
A8: 전체 | AX8: 2016.10.01~2018.09.30 (24개월)
A11: 건축 | AX11: 2016.10.01~2018.09.30 (24개월)
A14: 구조체공사 | AX14: 2016.10.01~2017.12.31 (15개월)
A17: 토목 | AX17: 2016.10.01~2018.09.30 (24개월)
A20: 전기 | AX20: 2016.12.01~2018.09.30 (22개월)
A23: 설비 | AX23: 2016.12.01~2018.09.30 (22개월)
