Workbook
Name PIPE40: #REF!
Name PIPE40: #REF!

Sheet 총사업비 총괄표
A1: 【별지 제1호 서식】
A2: 총 사업비 산출 총괄표
H3: 단위 : 천원
A4: 구 분 | D4: 전체 | E4: 감리대상 | F4: 전기감리 | G4: 감리제외 | H4: 타법감리
A5: 총공사비 | B5: 순공사비 | C5: 토목공사 | D5: ='공종별 총 공사비 구성'!$E$17 -> 17620730 | E5: =D5 -> 17620730
C6: 건축공사 | D6: ='공종별 총 공사비 구성'!$E$41 -> 153878900 | E6: =D6 -> 153878900
C7: 기계설비공사 | D7: ='공종별 총 공사비 구성'!$E$51 -> 20382180 | E7: =D7 -> 20382180
C8: 전기공사 | D8: ='공종별 총 공사비 구성'!$E$52 -> 15280062 | F8: =D8 -> 15280062
C9: 정보통신공사 | D9: ='공종별 총 공사비 구성'!$E$53 -> 9441553 | H9: =D9 -> 9441553
C10: 소방설비공사 | D10: ='공종별 총 공사비 구성'!$E$54 -> 8179173 | H10: =D10 -> 8179173
B11: 소 계 | D11: =SUM(D5:D10) -> 224782598 | E11: =SUM(E5:E10) -> 191881810 | F11: =SUM(F5:F10) -> 15280062 | H11: =SUM(H5:H10) -> 17620726
B12: 일반관리비 | D12: ='공종별 총 공사비 구성'!$E$55 -> 8281464 | E12: 7186020 | F12: 511220 | H12: 584224
B13: 이 윤 | D13: ='공종별 총 공사비 구성'!$E$56 -> 3549198 | E13: 3079720 | F13: 219100 | H13: 250378
A14: 소 계 | D14: =D11+D12+D13 -> 236613260 | E14: =SUM(E11:E13) -> 202147550 | F14: =F11+F12+F13 -> 16010382 | H14: =H11+H12+H13 -> 18455328
A15: 간접비 | B15: 설계비 | D15: 3257067 | G15: 3257067
B16: 감리비 | D16: 4637831 | G16: 4637831
B17: 일반분양시설 경비 | D17: 9789941 | G17: 2190488.8
B18: 분담금 및 부담금 | D18: 4532235 | G18: 4532235
B19: 보상비 | D19: 17523628 | G19: 17523628
B20: 기타 사업비성 경비 | D20: 26864981 | G20: 34464433
A21: 소 계 | D21: =SUM(D15:D20) -> 66605683 | E21: =SUM(E15:E20) -> 0 | F21: =SUM(F15:F20) -> 0 | G21: =SUM(G15:G20) -> 66605683 | H21: =SUM(H15:H20) -> 0
A22: 부가가치세액 | D22: 4609754 | G22: 4609754
A23: 총사업비 계 | D23: =D22+D21+D14 -> 307828697 | E23: =E22+E21+E14 -> 202147550 | F23: =F22+F21+F14 -> 16010382 | G23: =G22+G21+G14 -> 71215437 | H23: =H22+H21+H14 -> 18455328 | K23: 307828697 | L23: =D23-K23 -> 0
K24: =D20-L23 -> 26864981
A25: 주 1 : 순공사비란 재료비, 노무비, 경비를 합한 금액임.
A27: 3 : 부가가치세액의 정의의 산정방법은 '부가가치세법'에 따름
A28: 4 : 간접비란 사업비 중 총공사비를 제외한 설계비, 감리비, 일반분양시설경비 등 사업비성경비를 말하며,
A29: 세부 비목은 다음과 같음.
A30: · 일반분양시설경비 : 시공비, 운영비, 광고홍보비 등
A31: · 분담금 및 부담금 : 인입분담금(가스, 전기, 수도, 지역난방), 진입도로, 학교용지확보부담금
A32: · 보상비 : 이주대책비, 이주보상비, 현금청산금
A33: · 기타사업비성 경비 : 제세공과금, 측량교통환경영향평가 수수료, 취득세, 등록세, 건물보존등기비 및
A34: 입주관리비, 감정평가수수료, 분양임대보증 등 기타 사업경비
A35: · 대지비 : 대지구입비, 대지 구입 관련 금융비용 및 제세공과금

Sheet 공종별 총 공사비 구성
A1: 공종별 총공사비 구성 현황표
B2: 현장명 : 전주 효자구역 주택재개발 정비사업 | H2: [단위 : 천원]
B3: 구분 | C3: 분야 | D3: 공종 | E3: 전체 | F3: 감리대상 | G3: 전기감리 | H3: 타법감리
B4: 순공사비 | C4: 토목 (13개 공사) | D4: 토 공사 | E4: 5286220 | F4: =E4 -> 5286220
D5: 흙막이 공사 | E5: 2114490 | F5: =E5 -> 2114490
D6: 비탈면보호 공사 | E6: 0 | F6: =E6 -> 0
D7: 옹벽 공사 | E7: 0 | F7: =E7 -> 0
D8: 석축 공사 | E8: 0 | F8: =E8 -> 0
D9: 우,오수 공사 | E9: 881040 | F9: =E9 -> 881040
D10: 공동구 공사 | E10: 0 | F10: =E10 -> 0
D11: 지하저수조 및 급수 공사 | E11: 704830 | F11: =E11 -> 704830
D12: 도로포장 공사 | E12: 528620 | F12: =E12 -> 528620
D13: 교통안전시설물 공사 | E13: 0 | F13: =E13 -> 0
D14: 정화조시설 공사 | E14: 0 | F14: =E14 -> 0
D15: 조경 공사 | E15: 5814840 | F15: =E15 -> 5814840
D16: 부대시설 공사 | E16: 2290690 | F16: =E16 -> 2290690
D17: 소계 | E17: =SUM(E4:E16) -> 17620730 | F17: =E17 -> 17620730
C18: 건축 (23개 공사) | D18: 공통가설 공사 | E18: 1867270 | F18: =E18 -> 1867270
D19: 가시설물 공사 | E19: 3760840 | F19: =E19 -> 3760840
D20: 지정 및 기초 공사(구조체공사 범위) | E20: 4707630 | F20: =E20 -> 4707630
D21: 철골 공사 | E21: 0 | F21: =E21 -> 0
D22: 철근콘크리트 공사(구조체공사 범위) | E22: 72218670 | F22: =E22 -> 72218670
D23: 용접 공사 | E23: 0 | F23: =E23 -> 0
D24: 조적 공사 | E24: 5338820 | F24: =E24 -> 5338820
D25: 미장 공사 | E25: 4760230 | F25: =E25 -> 4760230
D26: 단열 공사 | E26: 3261150 | F26: =E26 -> 3261150
D27: 방수, 방습 공사 | E27: 3550440 | F27: =E27 -> 3550440
D28: 목 공사 | E28: 9625650 | F28: =E28 -> 9625650
D29: 가구 공사 | E29: 3839740 | F29: =E29 -> 3839740
D30: 금속 공사 | E30: 4155340 | F30: =E30 -> 4155340
... D40: 잡공사 | E40: 5549210 | F40: =E40 -> 5549210
D41: 소계 | E41: =SUM(E18:E40) -> 153878900 | F41: =E41 -> 153878900
C42: 기계설비 (9개 공사) | D42: 급수설비 공사 | E42: 1630570 | F42: =E42 -> 1630570
D43: 급탕설비 공사 | E43: 1019110 | F43: =E43 -> 1019110
D44: 오배수 및 통기설비 공사 | E44: 2038220 | F44: =E44 -> 2038220
D45: 위생기구 공사 | E45: 4484080 | F45: =E45 -> 4484080
D46: 승강기기계 공사 | E46: 2445860 | F46: =E46 -> 2445860
D47: 난방설비 공사 | E47: 5707010 | F47: =E47 -> 5707010
D48: 가스설비 공사 | E48: 611470 | F48: =E48 -> 611470
D49: 자동제어설비 공사 | E49: 815290 | F49: =E49 -> 815290
...

Sheet 공정표
A2: ○ 전주 효자구역 주택재개발 정비사업
A4: 공사기간 : 2019. 09 ~ 2022. 01 (29개월)
A6: 구 분 | C6: 2019년 | G6: 2020년 | S6: 2021년 | AE6: 2022년
C7: 9 | D7: 10 | E7: 11 | F7: 12 | G7: 1 | H7: =G7+1 -> 2 | I7: 3 | J7: =I7+1 -> 4 | K7: =J7+1 -> 5 | L7: =K7+1 -> 6 | M7: =L7+1 -> 7 | N7: =M7+1 -> 8 | O7: =N7+1 -> 9 | P7: =O7+1 -> 10 | Q7: =P7+1 -> 11 | R7: =Q7+1 -> 12 | S7: 1 | T7: 2 | U7: 3 | V7: =U7+1 -> 4 | W7: =V7+1 -> 5 | X7: =W7+1 -> 6 | Y7: =X7+1 -> 7 | Z7: =Y7+1 -> 8 | AA7: =Z7+1 -> 9 | AB7: =AA7+1 -> 10 | AC7: =AB7+1 -> 11 | AD7: 12 | AE7: 1
C8: 1 | D8: =C8+1 -> 2 | E8: =D8+1 -> 3 | F8: =E8+1 -> 4 | G8: =F8+1 -> 5 | H8: =G8+1 -> 6 | I8: =H8+1 -> 7 | J8: =I8+1 -> 8 | K8: =J8+1 -> 9 | ... AE8: =AD8+1 -> 29
A9: 토 목 | B9: 토공사
B12: 흙막이공사
B15: 우ㆍ오수공사
B18: 지하저수조 및 급수공사
B21: 도로포장공사
B24: 정화조시설공사
B27: 조경공사
A30: 건축 | B30: 공통가설공사
B33: 가시설물공사
B36: 지정 및 기초공사 (구조체공사) | AE36: 구조체 공사 (15개월)
B39: 철근콘크리트공사 (구조체공사)
B42: 조적공사
B45: 미장공사
B48: 단열공사
B51: 방수ㆍ방습공사
B54: 목공사
B57: 가구공사
B60: 지붕 및 홈통공사
B63: 창호공사
B66: 유리공사
B69: 타일공사
B72: 돌공사
... B87: 잡공사
A90: 기계설비 | B90: 급수설비공사
B93: 급탕설비공사
B96: 오배수 및 통기설비공사
B99: 위생기구공사
B102: 승강기기계공사
B105: 난방설비공사
B108: 가스설비공사
B111: 자동제어설비공사
B114: 특수설비공사
A117: 전기
A120: 정보통신
A123: 소방설비
