Workbook

Sheet 목차
A3: 페이지 | B3: 노선번호 | C3: 구 간
A4: 1 | B4: 221 | C4: 전주-이서-애통리-상리
A5: 2 | B5: 215 | C5: 전주-이서-애통리-구암
A6: 3 | B6: 235 | C6: 전주-이서-애통리-원마다리
A7: 4 | B7: 245 | C7: 전주-이서-애통리-모산-용지
A8: 1 | B8: 79 | C8: 전주-독배-금산사
A9: 2 | B9: 644.684.685 | C9: 전주-금구-원평
A10: 3 | B10: 752 | C10: 전주-상관-관촌
A11: 4 | B11: 947 | C11: 전주-광곡-상운암
A12: 5 | B12: 974 | C12: 전주-동적골-구이-운암교-하운암-가는정-장작골
A13: 6 | B13: 375 | C13: 전주-삼례시장-쌍정
A14: 7 | B14: 410 | C14: 전주-성덕-춘강
A15: 8 | B15: 430 | C15: 전주-백구-용지
A16: 9 | B16: 872 | C16: 전주-소양-장승리

Sheet 기본요금
H1: 요율 | I1: =C5 -> 131.82 | N1: 기본요금 | P1: =C6 -> 1500 | R1: 중고생 | S1: =C7 -> 1200 | V1: 기본요금거리 | X1: =C8 -> 8
B5: 구 간 요 금 | C5: 131.82
B6: 기본요금(일반) | C6: 1500
B7: 기본요금(중고생) | C7: 1200
B8: 기본요금구간 | C8: 8

Sheet 이서상리
H1: 요율 | I1: =기본요금!C5 -> 131.82 | N1: 기본요금 | P1: =기본요금!C6 -> 1500 | R1: 중고생 | S1: =기본요금!C7 -> 1200 | V1: 기본요금거리 | X1: =기본요금!C8 -> 8
B2: 전주- 이서-애통리-상리(노선번호 : 27번)
A3: 승강장명 | B3: 요 금 | F3: 기본요금 및 환승지역 (전주시. 완주군 지역) | P3: 구간요금적용지역 (김제지역) | T3: =$B$3+T4 -> #VALUE! | V3: =$B$3+V4 -> #VALUE! | X3: =$B$3+X4 -> #VALUE! | Z3: =$B$3+Z4 -> #VALUE! | AB3: =$B$3+AB4 -> #VALUE! | AD3: =$B$3+AD4 -> #VALUE! | AF3: =$B$3+AF4 -> #VALUE! | AH3: =$B$3+AH4 -> #VALUE! | AJ3: =$B$3+AJ4 -> #VALUE! | AL3: =$B$3+AL4 -> #VALUE! | AN3: =$B$3+AN4 -> #VALUE! | AP3: =$B$3+AP4 -> #VALUE!
A4: 전주 상림동 | D4: 추가요금 | F4: 1 | H4: =+F4+H5 -> 2.5 | J4: =+H4+J7 -> 3.5 | L4: =J4+L9 -> 4.6 | N4: =L4+N11 -> 5.9 | P4: =+N4+P13 -> 7.7 | R4: =+P4+R15 -> 8.8 | T4: =+R4+T17 -> 8.8 | V4: =+T4+V19 -> 8.8 | X4: =+V4+X21 -> 8.8 | Z4: =+X4+Z23 -> 8.8 | AB4: =+Z4+AB25 -> 8.8 | AD4: =+AB4+AD27 -> 8.8 | AF4: =+AD4+AF29 -> 8.8 | AH4: =+AF4+AH31 -> 8.8 | AJ4: =+AH4+AJ33 -> 8.8 | AL4: =+AJ4+AL35 -> 8.8 | AN4: =+AL4+AN37 -> 8.8 | AP4: =+AN4+AP39 -> 8.8
A5: 새금동 | C5: =MROUND(ROUNDDOWN(B6*0.8,-1),50) -> 1300 | E5: =C5-$S$1 -> 100 | F5: 새금동 | H5: 1.5 | J5: =H5+J7 -> 2.5 | L5: =J5+L9 -> 3.6 | N5: =L5+N11 -> 4.9 | P5: =N5+P13 -> 6.7 | R5: =P5+R15 -> 7.8 | T5: =R5+T17 -> 7.8 | V5: =T5+V19 -> 7.8 | X5: =V5+X21 -> 7.8 | Z5: =X5+Z23 -> 7.8 | AB5: =Z5+AB25 -> 7.8 | AD5: =AB5+AD27 -> 7.8 | AF5: =AD5+AF29 -> 7.8 | AH5: =AF5+AH31 -> 7.8 | AJ5: =AH5+AJ33 -> 7.8 | AL5: =AJ5+AL35 -> 7.8 | AN5: =AL5+AN37 -> 7.8 | AP5: =AN5+AP39 -> 7.8
B6: =$P$1+MROUND(ROUNDDOWN(F4*$I$1,-1),50) -> 1650 | D6: =B6-$P$1 -> 150
A7: 돌꼭지 후농 | C7: =MROUND(ROUNDDOWN(B8*0.8,-1),50) -> 1450 | E7: =C7-$S$1 -> 250 | G7: =MROUND(ROUNDDOWN(F8*0.8,-1),50) -> 1200 | H7: 돌꼭지 후농 | J7: 1 | L7: =J7+L9 -> 2.1 | N7: =L7+N11 -> 3.4 | P7: =N7+P13 -> 5.2 | R7: =P7+R15 -> 6.3 | T7: =R7+T17 -> 6.3 | V7: =T7+V19 -> 6.3 | X7: =V7+X21 -> 6.3 | Z7: =X7+Z23 -> 6.3 | AB7: =Z7+AB25 -> 6.3 | AD7: =AB7+AD27 -> 6.3 | AF7: =AD7+AF29 -> 6.3 | AH7: =AF7+AH31 -> 6.3 | AJ7: =AH7+AJ33 -> 6.3 | AL7: =AJ7+AL35 -> 6.3 | AN7: =AL7+AN37 -> 6.3 | AP7: =AN7+AP39 -> 6.3
B8: =$P$1+MROUND(ROUNDDOWN(H4*$I$1,-1),50) -> 1800 | D8: =B8-$P$1 -> 300 | F8: =IF((H5)<=8,P1,P1+ROUND(INT(((H5-8)*I1)),-1)) -> 1500
A9: 이서 | C9: =MROUND(ROUNDDOWN(B10*0.8,-1),50) -> 1550 | E9: =C9-$S$1 -> 350 | G9: =MROUND(ROUNDDOWN(F10*0.8,-1),50) -> 1200 | I9: =MROUND(ROUNDDOWN(H10*0.8,-1),50) -> 1200 | J9: 이서 | L9: 1.1 | N9: =L9+N11 -> 2.4 | P9: =N9+P13 -> 4.2 | R9: =P9+R15 -> 5.3 | T9: =R9+T17 -> 5.3 | V9: =T9+V19 -> 5.3 | X9: =V9+X21 -> 5.3 | Z9: =X9+Z23 -> 5.3 | AB9: =Z9+AB25 -> 5.3 | AD9: =AB9+AD27 -> 5.3 | AF9: =AD9+AF29 -> 5.3 | AH9: =AF9+AH31 -> 5.3 | AJ9: =AH9+AJ33 -> 5.3 | AL9: =AJ9+AL35 -> 5.3 | AN9: =AL9+AN37 -> 5.3 | AP9: =AN9+AP39 -> 5.3
B10: =$P$1+MROUND(ROUNDDOWN(J4*$I$1,-1),50) -> 1950 | D10: =B10-$P$1 -> 450 | F10: =IF((J5)<=8,P1,P1+ROUND(INT(((J5-8)*I1)),-1)) -> 1500 | H10: =IF((J7)<=8,P1,P1+ROUND(INT(((J7-8)*I1)),-1)) -> 1500
A11: 모고지 은교 | C11: =MROUND(ROUNDDOWN(B12*0.8,-1),50) -> 1700 | E11: =C11-$S$1 -> 500 | G11: =MROUND(ROUNDDOWN(F12*0.8,-1),50) -> 1200 | I11: =MROUND(ROUNDDOWN(H12*0.8,-1),50) -> 1200 | K11: =MROUND(ROUNDDOWN(J12*0.8,-1),50) -> 1200 | L11: 모고지 은교 | N11: 1.3 | P11: =N11+P13 -> 3.1 | R11: =P11+R15 -> 4.2 | T11: =R11+T17 -> 4.2 | V11: =T11+V19 -> 4.2 | X11: =V11+X21 -> 4.2 | Z11: =X11+Z23 -> 4.2 | AB11: =Z11+AB25 -> 4.2 | AD11: =AB11+AD27 -> 4.2 | AF11: =AD11+AF29 -> 4.2 | AH11: =AF11+AH31 -> 4.2 | AJ11: =AH11+AJ33 -> 4.2 | AL11: =AJ11+AL35 -> 4.2 | AN11: =AL11+AN37 -> 4.2 | AP11: =AN11+AP39 -> 4.2
B12: =$P$1+MROUND(ROUNDDOWN(L4*$I$1,-1),50) -> 2100 | D12: =B12-$P$1 -> 600 | F12: =IF((L5)<=8,P1,P1+ROUND(INT(((L5-8)*I1)),-1)) -> 1500 | H12: =IF((L7)<=8,P1,P1+ROUND(INT(((L7-8)*I1)),-1)) -> 1500 | J12: =IF((L9)<=8,P1,P1+ROUND(INT(((L9-8)*I1)),-1)) -> 1500
A13: 애통리 | C13: =MROUND(ROUNDDOWN(B14*0.8,-1),50) -> 1800 | E13: =C13-$S$1 -> 600 | G13: =MROUND(ROUNDDOWN(F14*0.8,-1),50) -> 1200 | I13: =MROUND(ROUNDDOWN(H14*0.8,-1),50) -> 1200 | K13: =MROUND(ROUNDDOWN(J14*0.8,-1),50) -> 1200 | M13: =MROUND(ROUNDDOWN(L14*0.8,-1),50) -> 1200 | N13: 애통리 | P13: 1.8 | R13: =P13+R15 -> 2.9 | T13: =R13+T17 -> 2.9 | V13: =T13+V19 -> 2.9 | X13: =V13+X21 -> 2.9 | Z13: =X13+Z23 -> 2.9 | AB13: =Z13+AB25 -> 2.9 | AD13: =AB13+AD27 -> 2.9 | AF13: =AD13+AF29 -> 2.9 | AH13: =AF13+AH31 -> 2.9 | AJ13: =AH13+AJ33 -> 2.9 | AL13: =AJ13+AL35 -> 2.9 | AN13: =AL13+AN37 -> 2.9 | AP13: =AN13+AP39 -> 2.9
B14: =$P$1+MROUND(ROUNDDOWN(N4*$I$1,-1),50) -> 2250 | D14: =B14-$P$1 -> 750 | F14: =IF((N5)<=8,P1,P1+ROUND(INT(((N5-8)*I1)),-1)) -> 1500 | H14: =IF((N7)<=8,P1,P1+ROUND(INT(((N7-8)*I1)),-1)) -> 1500 | J14: =IF((N9)<=8,P1,P1+ROUND(INT(((N9-8)*I1)),-1)) -> 1500 | L14: =IF((N11)<=8,P1,P1+ROUND(INT(((N11-8)*I1)),-1)) -> 1500
A15: 불노리 | C15: =MROUND(ROUNDDOWN(B16*0.8,-1),50) -> 2000 | E15: =C15-$S$1 -> 800 | G15: =MROUND(ROUNDDOWN(F16*0.8,-1),50) -> 1200 | I15: =MROUND(ROUNDDOWN(H16*0.8,-1),50) -> 1200 | K15: =MROUND(ROUNDDOWN(J16*0.8,-1),50) -> 1200 | M15: =MROUND(ROUNDDOWN(L16*0.8,-1),50) -> 1200 | O15: =MROUND(ROUNDDOWN(N16*0.8,-1),50) -> 1200 | P15: 불노리 | R15: 1.1 | T15: =R15+T17 -> 1.1 | V15: =T15+V19 -> 1.1 | X15: =V15+X21 -> 1.1 | Z15: =X15+Z23 -> 1.1 | AB15: =Z15+AB25 -> 1.1 | AD15: =AB15+AD27 -> 1.1 | AF15: =AD15+AF29 -> 1.1 | AH15: =AF15+AH31 -> 1.1 | AJ15: =AH15+AJ33 -> 1.1 | AL15: =AJ15+AL35 -> 1.1 | AN15: =AL15+AN37 -> 1.1 | AP15: =AN15+AP39 -> 1.1
B16: =$P$1+MROUND(ROUNDDOWN(P4*$I$1,-1),50) -> 2500 | D16: =B16-$P$1 -> 1000 | F16: =IF((P5)<=8,P1,P1+ROUND(INT(((R5-8)*I1)),-1)) -> 1500 | H16: =IF((P7)<=8,P1,P1+ROUND(INT(((P7-8)*I1)),-1)) -> 1500 | J16: =IF((P9)<=8,P1,P1+ROUND(INT(((P9-8)*I1)),-1)) -> 1500 | L16: =IF((P11)<=8,P1,P1+ROUND(INT(((P11-8)*I1)),-1)) -> 1500 | N16: =IF((P13)<=8,P1,P1+ROUND(INT(((P13-8)*I1)),-1)) -> 1500
A17: 상리 | C17: =MROUND(ROUNDDOWN(B18*0.8,-1),50) -> 2100 | E17: =C17-$S$1 -> 900 | G17: =MROUND(ROUNDDOWN(F18*0.8,-1),50) -> 1200 | I17: =MROUND(ROUNDDOWN(H18*0.8,-1),50) -> 1200 | K17: =MROUND(ROUNDDOWN(J18*0.8,-1),50) -> 1200 | M17: =MROUND(ROUNDDOWN(L18*0.8,-1),50) -> 1200 | O17: =MROUND(ROUNDDOWN(N18*0.8,-1),50) -> 1200 | Q17: =MROUND(ROUNDDOWN(P18*0.8,-1),50) -> 1200 | R17: 상리 | V17: =T17+V19 -> 0 | X17: =V17+X21 -> 0 | Z17: =X17+Z23 -> 0 | AB17: =Z17+AB25 -> 0 | AD17: =AB17+AD27 -> 0 | AF17: =AD17+AF29 -> 0 | AH17: =AF17+AH31 -> 0 | AJ17: =AH17+AJ33 -> 0 | AL17: =AJ17+AL35 -> 0 | AN17: =AL17+AN37 -> 0 | AP17: =AN17+AP39 -> 0
B18: =$P$1+MROUND(ROUNDDOWN(R4*$I$1,-1),50) -> 2650 | D18: =B18-$P$1 -> 1150 | F18: =IF((R5)<=8,P1,P1+ROUND(INT(((R5-8)*I1)),-1)) -> 1500 | H18: =IF((R7)<=8,P1,P1+ROUND(INT(((R7-8)*I1)),-1)) -> 1500 | J18: =IF((R9)<=8,P1,P1+ROUND(INT(((R9-8)*I1)),-1)) -> 1500 | L18: =IF((R11)<=8,P1,P1+ROUND(INT(((R11-8)*I1)),-1)) -> 1500 | N18: =IF((R13)<=8,P1,P1+ROUND(INT(((R13-8)*I1)),-1)) -> 1500 | P18: =IF((R15)<=8,P1,P1+ROUND(INT(((R15-8)*I1)),-1)) -> 1500
A19: =T19 -> 0 | C19: =MROUND(ROUNDDOWN(B20*0.8,-1),50) -> 2100 | E19: =C19-$S$1 -> 900 | G19: =ROUND(F20*0.8,-1) -> 1200 | I19: =ROUND(H20*0.8,-1) -> 1200 | K19: =ROUND(J20*0.8,-1) -> 1200 | M19: =ROUND(L20*0.8,-1) -> 1200 | O19: =ROUND(N20*0.8,-1) -> 1200 | Q19: =ROUND(P20*0.8,-1) -> 1200 | S19: =ROUND(R20*0.8,-1) -> 1200 | X19: =V19+X21 -> 0 | Z19: =X19+Z23 -> 0 | AB19: =Z19+AB25 -> 0 | AD19: =AB19+AD27 -> 0 | AF19: =AD19+AF29 -> 0 | AH19: =AF19+AH31 -> 0 | AJ19: =AH19+AJ33 -> 0 | AL19: =AJ19+AL35 -> 0 | AN19: =AL19+AN37 -> 0 | AP19: =AN19+AP39 -> 0
B20: =$P$1+MROUND(ROUNDDOWN(T4*$I$1,-1),50) -> 2650 | D20: =B20-$P$1 -> 1150 | F20: =IF((T5)<=8,P1,P1+ROUND(INT(((T5-8)*I1)),-1)) -> 1500 | H20: =IF((T7)<=8,P1,P1+ROUND(INT(((T7-8)*I1)),-1)) -> 1500 | J20: =IF((T9)<=8,P1,P1+ROUND(INT(((T9-8)*I1)),-1)) -> 1500 | L20: =IF((T11)<=8,P1,P1+ROUND(INT(((T11-8)*I1)),-1)) -> 1500 | N20: =IF((T13)<=8,P1,P1+ROUND(INT(((T13-8)*I1)),-1)) -> 1500 | P20: =IF((T15)<=8,P1,P1+ROUND(INT(((T15-8)*I1)),-1)) -> 1500 | R20: =IF((T17)<=8,P1,P1+ROUND(INT(((T17-8)*I1)),-1)) -> 1500
A21: =V21 -> 0 | C21: =MROUND(ROUNDDOWN(B22*0.8,-1),50) -> 2100 | E21: =C21-$S$1 -> 900 | G21: =ROUND(F22*0.8,-1) -> 1200 | I21: =ROUND(H22*0.8,-1) -> 1200 | K21: =ROUND(J22*0.8,-1) -> 1200 | M21: =ROUND(L22*0.8,-1) -> 1200 | O21: =ROUND(N22*0.8,-1) -> 1200 | Q21: =ROUND(P22*0.8,-1) -> 1200 | S21: =ROUND(R22*0.8,-1) -> 1200 | U21: =ROUND(T22*0.8,-1) -> 1200 | Z21: =X21+Z23 -> 0 | AB21: =Z21+AB25 -> 0 | AD21: =AB21+AD27 -> 0 | AF21: =AD21+AF29 -> 0 | AH21: =AF21+AH31 -> 0 | AJ21: =AH21+AJ33 -> 0 | AL21: =AJ21+AL35 -> 0 | AN21: =AL21+AN37 -> 0 | AP21: =AN21+AP39 -> 0
B22: =$P$1+MROUND(ROUNDDOWN(V4*$I$1,-1),50) -> 2650 | D22: =B22-$P$1 -> 1150 | F22: =IF((V5)<=8,P1,P1+ROUND(INT(((V5-8)*I1)),-1)) -> 1500 | H22: =IF((V7)<=8,P1,P1+ROUND(INT(((V7-8)*I1)),-1)) -> 1500 | J22: =IF((V9)<=8,P1,P1+ROUND(INT(((V9-8)*I1)),-1)) -> 1500 | L22: =IF((V11)<=8,P1,P1+ROUND(INT(((V11-8)*I1)),-1)) -> 1500 | N22: =IF((V13)<=8,P1,P1+ROUND(INT(((V13-8)*I1)),-1)) -> 1500 | P22: =IF((V15)<=8,P1,P1+ROUND(INT(((V15-8)*I1)),-1)) -> 1500 | R22: =IF((V17)<=8,P1,P1+ROUND(INT(((V17-8)*I1)),-1)) -> 1500 | T22: =IF((V19)<=8,P1,P1+ROUND(INT(((V19-8)*I1)),-1)) -> 1500
A23: =X23 -> 0 | C23: =MROUND(ROUNDDOWN(B24*0.8,-1),50) -> 2100 | E23: =C23-$S$1 -> 900 | G23: =ROUND(F24*0.8,-1) -> 1200 | I23: =ROUND(H24*0.8,-1) -> 1200 | K23: =ROUND(J24*0.8,-1) -> 1200 | M23: =ROUND(L24*0.8,-1) -> 1200 | O23: =ROUND(N24*0.8,-1) -> 1200 | Q23: =ROUND(P24*0.8,-1) -> 1200 | S23: =ROUND(R24*0.8,-1) -> 1200 | U23: =ROUND(T24*0.8,-1) -> 1200 | W23: =ROUND(V24*0.8,-1) -> 1200 | AB23: =Z23+AB25 -> 0 | AD23: =AB23+AD27 -> 0 | AF23: =AD23+AF29 -> 0 | AH23: =AF23+AH31 -> 0 | AJ23: =AH23+AJ33 -> 0 | AL23: =AJ23+AL35 -> 0 | AN23: =AL23+AN37 -> 0 | AP23: =AN23+AP39 -> 0
B24: =$P$1+MROUND(ROUNDDOWN(X4*$I$1,-1),50) -> 2650 | D24: =B24-$P$1 -> 1150 | F24: =IF((X5)<=8,P1,P1+ROUND(INT(((X5-8)*I1)),-1)) -> 1500 | H24: =IF((X7)<=8,P1,P1+ROUND(INT(((X7-8)*I1)),-1)) -> 1500 | J24: =IF((X9)<=8,P1,P1+ROUND(INT(((X9-8)*I1)),-1)) -> 1500 | L24: =IF((X11)<=8,P1,P1+ROUND(INT(((X11-8)*I1)),-1)) -> 1500 | N24: =IF((X13)<=8,P1,P1+ROUND(INT(((X13-8)*I1)),-1)) -> 1500 | P24: =IF((X15)<=8,P1,P1+ROUND(INT(((X15-8)*I1)),-1)) -> 1500 | R24: =IF((X17)<=8,P1,P1+ROUND(INT(((X17-8)*I1)),-1)) -> 1500 | T24: =IF((X19)<=8,P1,P1+ROUND(INT(((X19-8)*I1)),-1)) -> 1500 | V24: =IF((X21)<=8,P1,P1+ROUND(INT(((X21-8)*I1)),-1)) -> 1500
A25: =Z25 -> 0 | C25: =MROUND(ROUNDDOWN(B26*0.8,-1),50) -> 2100 | E25: =C25-$S$1 -> 900 | G25: =ROUND(F26*0.8,-1) -> 1200 | I25: =ROUND(H26*0.8,-1) -> 1200 | K25: =ROUND(J26*0.8,-1) -> 1200 | M25: =ROUND(L26*0.8,-1) -> 1200 | O25: =ROUND(N26*0.8,-1) -> 1200 | Q25: =ROUND(P26*0.8,-1) -> 1200 | S25: =ROUND(R26*0.8,-1) -> 1200 | U25: =ROUND(T26*0.8,-1) -> 1200 | W25: =ROUND(V26*0.8,-1) -> 1200 | Y25: =ROUND(X26*0.8,-1) -> 1200 | AD25: =AB25+AD27 -> 0 | AF25: =AD25+AF29 -> 0 | AH25: =AF25+AH31 -> 0 | AJ25: =AH25+AJ33 -> 0 | AL25: =AJ25+AL35 -> 0 | AN25: =AL25+AN37 -> 0 | AP25: =AN25+AP39 -> 0
B26: =$P$1+MROUND(ROUNDDOWN(Z4*$I$1,-1),50) -> 2650 | D26: =B26-$P$1 -> 1150 | F26: =IF((Z5)<=8,P1,P1+ROUND(INT(((Z5-8)*I1)),-1)) -> 1500 | H26: =IF((Z7)<=8,P1,P1+ROUND(INT(((Z7-8)*I1)),-1)) -> 1500 | J26: =IF((Z9)<=8,P1,P1+ROUND(INT(((Z9-8)*I1)),-1)) -> 1500 | L26: =IF((Z11)<=8,P1,P1+ROUND(INT(((Z11-8)*I1)),-1)) -> 1500 | N26: =IF((Z13)<=8,P1,P1+ROUND(INT(((Z13-8)*I1)),-1)) -> 1500 | P26: =IF((Z15)<=8,P1,P1+ROUND(INT(((Z15-8)*I1)),-1)) -> 1500 | R26: =IF((Z17)<=8,P1,P1+ROUND(INT(((Z17-8)*I1)),-1)) -> 1500 | T26: =IF((Z19)<=8,P1,P1+ROUND(INT(((Z19-8)*I1)),-1)) -> 1500 | V26: =IF((Z21)<=8,P1,P1+ROUND(INT(((Z21-8)*I1)),-1)) -> 1500 | X26: =IF((Z23)<=8,P1,P1+ROUND(INT(((Z23-8)*I1)),-1)) -> 1500
A27: =AB27 -> 0 | C27: =MROUND(ROUNDDOWN(B28*0.8,-1),50) -> 2100 | E27: =C27-$S$1 -> 900 | G27: =ROUND(F28*0.8,-1) -> 1200 | I27: =ROUND(H28*0.8,-1) -> 1200 | K27: =ROUND(J28*0.8,-1) -> 1200 | M27: =ROUND(L28*0.8,-1) -> 1200 | O27: =ROUND(N28*0.8,-1) -> 1200 | Q27: =ROUND(P28*0.8,-1) -> 1200 | S27: =ROUND(R28*0.8,-1) -> 1200 | U27: =ROUND(T28*0.8,-1) -> 1200 | W27: =ROUND(V28*0.8,-1) -> 1200 | Y27: =ROUND(X28*0.8,-1) -> 1200 | AA27: =ROUND(Z28*0.8,-1) -> 1200 | AF27: =AD27+AF29 -> 0 | AH27: =AF27+AH31 -> 0 | AJ27: =AH27+AJ33 -> 0 | AL27: =AJ27+AL35 -> 0 | AN27: =AL27+AN37 -> 0 | AP27: =AN27+AP39 -> 0
B28: =$P$1+MROUND(ROUNDDOWN(AB4*$I$1,-1),50) -> 2650 | D28: =B28-$P$1 -> 1150 | F28: =IF((AB5)<=8,P1,P1+ROUND(INT(((AB5-8)*I1)),-1)) -> 1500 | H28: =IF((AB7)<=8,P1,P1+ROUND(INT(((AB7-8)*I1)),-1)) -> 1500 | J28: =IF((AB9)<=8,P1,P1+ROUND(INT(((AB9-8)*I1)),-1)) -> 1500 | L28: =IF((AB11)<=8,P1,P1+ROUND(INT(((AB11-8)*I1)),-1)) -> 1500 | N28: =IF((AB13)<=8,P1,P1+ROUND(INT(((AB13-8)*I1)),-1)) -> 1500 | P28: =IF((AB15)<=8,P1,P1+ROUND(INT(((AB15-8)*I1)),-1)) -> 1500 | R28: =IF((AB17)<=8,P1,P1+ROUND(INT(((AB17-8)*I1)),-1)) -> 1500 | T28: =IF((AB19)<=8,P1,P1+ROUND(INT(((AB19-8)*I1)),-1)) -> 1500 | V28: =IF((AB21)<=8,P1,P1+ROUND(INT(((AB21-8)*I1)),-1)) -> 1500 | X28: =IF((AB23)<=8,P1,P1+ROUND(INT(((AB23-8)*I1)),-1)) -> 1500 | Z28: =IF((AB25)<=8,P1,P1+ROUND(INT(((AB25-8)*I1)),-1)) -> 1500
A29: =AD29 -> 0 | C29: =MROUND(ROUNDDOWN(B30*0.8,-1),50) -> 2100 | E29: =C29-$S$1 -> 900 | G29: =ROUND(F30*0.8,-1) -> 1200 | I29: =ROUND(H30*0.8,-1) -> 1200 | K29: =ROUND(J30*0.8,-1) -> 1200 | M29: =ROUND(L30*0.8,-1) -> 1200 | O29: =ROUND(N30*0.8,-1) -> 1200 | Q29: =ROUND(P30*0.8,-1) -> 1200 | S29: =ROUND(R30*0.8,-1) -> 1200 | U29: =ROUND(T30*0.8,-1) -> 1200 | W29: =ROUND(V30*0.8,-1) -> 1200 | Y29: =ROUND(X30*0.8,-1) -> 1200 | AA29: =ROUND(Z30*0.8,-1) -> 1200 | AC29: =ROUND(AB30*0.8,-1) -> 1200 | AH29: =AF29+AH31 -> 0 | AJ29: =AH29+AJ33 -> 0 | AL29: =AJ29+AL35 -> 0 | AN29: =AL29+AN37 -> 0 | AP29: =AN29+AP39 -> 0
B30: =$P$1+MROUND(ROUNDDOWN(AD4*$I$1,-1),50) -> 2650 | D30: =B30-$P$1 -> 1150 | F30: =IF((AD5)<=8,P1,P1+ROUND(INT(((AD5-8)*I1)),-1)) -> 1500 | H30: =IF((AD7)<=8,P1,P1+ROUND(INT(((AD7-8)*I1)),-1)) -> 1500 | J30: =IF((AD9)<=8,P1,P1+ROUND(INT(((AD9-8)*I1)),-1)) -> 1500 | L30: =IF((AD11)<=8,P1,P1+ROUND(INT(((AD11-8)*I1)),-1)) -> 1500 | N30: =IF((AD13)<=8,P1,P1+ROUND(INT(((AD13-8)*I1)),-1)) -> 1500 | P30: =IF((AD15)<=8,P1,P1+ROUND(INT(((AD15-8)*I1)),-1)) -> 1500 | R30: =IF((AD17)<=8,P1,P1+ROUND(INT(((AD17-8)*I1)),-1)) -> 1500 | T30: =IF((AD19)<=8,P1,P1+ROUND(INT(((AD19-8)*I1)),-1)) -> 1500 | V30: =IF((AD21)<=8,P1,P1+ROUND(INT(((AD21-8)*I1)),-1)) -> 1500 | X30: =IF((AD23)<=8,P1,P1+ROUND(INT(((AD23-8)*I1)),-1)) -> 1500 | Z30: =IF((AD25)<=8,P1,P1+ROUND(INT(((AD25-8)*I1)),-1)) -> 1500 | AB30: =IF((AD27)<=8,P1,P1+ROUND(INT(((AD27-8)*I1)),-1)) -> 1500
A31: =AF31 -> 0 | C31: =MROUND(ROUNDDOWN(B32*0.8,-1),50) -> 2100 | E31: =C31-$S$1 -> 900 | G31: =ROUND(F32*0.8,-1) -> 1200 | I31: =ROUND(H32*0.8,-1) -> 1200 | K31: =ROUND(J32*0.8,-1) -> 1200 | M31: =ROUND(L32*0.8,-1) -> 1200 | O31: =ROUND(N32*0.8,-1) -> 1200 | Q31: =ROUND(P32*0.8,-1) -> 1200 | S31: =ROUND(R32*0.8,-1) -> 1200 | U31: =ROUND(T32*0.8,-1) -> 1200 | W31: =ROUND(V32*0.8,-1) -> 1200 | Y31: =ROUND(X32*0.8,-1) -> 1200 | AA31: =ROUND(Z32*0.8,-1) -> 1200 | AC31: =ROUND(AB32*0.8,-1) -> 1200 | AE31: =ROUND(AD32*0.8,-1) -> 1200 | AJ31: =AH31+AJ33 -> 0 | AL31: =AJ31+AL35 -> 0 | AN31: =AL31+AN37 -> 0 | AP31: =AN31+AP39 -> 0
B32: =$P$1+MROUND(ROUNDDOWN(AF4*$I$1,-1),50) -> 2650 | D32: =B32-$P$1 -> 1150 | F32: =IF((AF5)<=8,P1,P1+ROUND(INT(((AF5-8)*I1)),-1)) -> 1500 | H32: =IF((AF7)<=8,P1,P1+ROUND(INT(((AF7-8)*I1)),-1)) -> 1500 | J32: =IF((AF9)<=8,P1,P1+ROUND(INT(((AF9-8)*I1)),-1)) -> 1500 | L32: =IF((AF11)<=8,P1,P1+ROUND(INT(((AF11-8)*I1)),-1)) -> 1500 | N32: =IF((AF13)<=8,P1,P1+ROUND(INT(((AF13-8)*I1)),-1)) -> 1500 | P32: =IF((AF15)<=8,P1,P1+ROUND(INT(((AF15-8)*I1)),-1)) -> 1500 | R32: =IF((AF17)<=8,P1,P1+ROUND(INT(((AF17-8)*I1)),-1)) -> 1500 | T32: =IF((AF19)<=8,P1,P1+ROUND(INT(((AF19-8)*I1)),-1)) -> 1500 | V32: =IF((AF21)<=8,P1,P1+ROUND(INT(((AF21-8)*I1)),-1)) -> 1500 | X32: =IF((AF23)<=8,P1,P1+ROUND(INT(((AF23-8)*I1)),-1)) -> 1500 | Z32: =IF((AF25)<=8,P1,P1+ROUND(INT(((AF25-8)*I1)),-1)) -> 1500 | AB32: =IF((AF27)<=8,P1,P1+ROUND(INT(((AF27-8)*I1)),-1)) -> 1500 | AD32: =IF((AF29)<=8,P1,P1+ROUND(INT(((AF29-8)*I1)),-1)) -> 1500
A33: =AH33 -> 0 | C33: =MROUND(ROUNDDOWN(B34*0.8,-1),50) -> 2100 | E33: =C33-$S$1 -> 900 | G33: =ROUND(F34*0.8,-1) -> 1200 | I33: =ROUND(H34*0.8,-1) -> 1200 | K33: =ROUND(J34*0.8,-1) -> 1200 | M33: =ROUND(L34*0.8,-1) -> 1200 | O33: =ROUND(N34*0.8,-1) -> 1200 | Q33: =ROUND(P34*0.8,-1) -> 1200 | S33: =ROUND(R34*0.8,-1) -> 1200 | U33: =ROUND(T34*0.8,-1) -> 1200 | W33: =ROUND(V34*0.8,-1) -> 1200 | Y33: =ROUND(X34*0.8,-1) -> 1200 | AA33: =ROUND(Z34*0.8,-1) -> 1200 | AC33: =ROUND(AB34*0.8,-1) -> 1200 | AE33: =ROUND(AD34*0.8,-1) -> 1200 | AG33: =ROUND(AF34*0.8,-1) -> 1200 | AL33: =AJ33+AL35 -> 0 | AN33: =AL33+AN37 -> 0 | AP33: =AN33+AP39 -> 0
B34: =$P$1+MROUND(ROUNDDOWN(AH4*$I$1,-1),50) -> 2650 | D34: =B34-$P$1 -> 1150 | F34: =IF((AH5)<=8,P1,P1+ROUND(INT(((AH5-8)*I1)),-1)) -> 1500 | H34: =IF((AH7)<=8,P1,P1+ROUND(INT(((AH7-8)*I1)),-1)) -> 1500 | J34: =IF((AH9)<=8,P1,P1+ROUND(INT(((AH9-8)*I1)),-1)) -> 1500 | L34: =IF((AH11)<=8,P1,P1+ROUND(INT(((AH11-8)*I1)),-1)) -> 1500 | N34: =IF((AH13)<=8,P1,P1+ROUND(INT(((AH13-8)*I1)),-1)) -> 1500 | P34: =IF((AH15)<=8,P1,P1+ROUND(INT(((AH15-8)*I1)),-1)) -> 1500 | R34: =IF((AH17)<=8,P1,P1+ROUND(INT(((AH17-8)*I1)),-1)) -> 1500 | T34: =IF((AH19)<=8,P1,P1+ROUND(INT(((AH19-8)*I1)),-1)) -> 1500 | V34: =IF((AH21)<=8,P1,P1+ROUND(INT(((AH21-8)*I1)),-1)) -> 1500 | X34: =IF((AH23)<=8,P1,P1+ROUND(INT(((AH23-8)*I1)),-1)) -> 1500 | Z34: =IF((AH25)<=8,P1,P1+ROUND(INT(((AH25-8)*I1)),-1)) -> 1500 | AB34: =IF((AH27)<=8,P1,P1+ROUND(INT(((AH27-8)*I1)),-1)) -> 1500 | AD34: =IF((AH29)<=8,P1,P1+ROUND(INT(((AH29-8)*I1)),-1)) -> 1500 | AF34: =IF((AH31)<=8,P1,P1+ROUND(INT(((AH31-8)*I1)),-1)) -> 1500
A35: =AJ35 -> 0 | C35: =MROUND(ROUNDDOWN(B36*0.8,-1),50) -> 2100 | E35: =C35-$S$1 -> 900 | G35: =ROUND(F36*0.8,-1) -> 1200 | I35: =ROUND(H36*0.8,-1) -> 1200 | K35: =ROUND(J36*0.8,-1) -> 1200 | M35: =ROUND(L36*0.8,-1) -> 1200 | O35: =ROUND(N36*0.8,-1) -> 1200 | Q35: =ROUND(P36*0.8,-1) -> 1200 | S35: =ROUND(R36*0.8,-1) -> 1200 | U35: =ROUND(T36*0.8,-1) -> 1200 | W35: =ROUND(V36*0.8,-1) -> 1200 | Y35: =ROUND(X36*0.8,-1) -> 1200 | AA35: =ROUND(Z36*0.8,-1) -> 1200 | AC35: =ROUND(AB36*0.8,-1) -> 1200 | AE35: =ROUND(AD36*0.8,-1) -> 1200 | AG35: =ROUND(AF36*0.8,-1) -> 1200 | AI35: =ROUND(AH36*0.8,-1) -> 1200 | AN35: =AL35+AN37 -> 0 | AP35: =AN35+AP39 -> 0
B36: =$P$1+MROUND(ROUNDDOWN(AJ4*$I$1,-1),50) -> 2650 | D36: =B36-$P$1 -> 1150 | F36: =IF((AJ5)<=8,P1,P1+ROUND(INT(((AJ5-8)*I1)),-1)) -> 1500 | H36: =IF((AJ7)<=8,P1,P1+ROUND(INT(((AJ7-8)*I1)),-1)) -> 1500 | J36: =IF((AJ9)<=8,P1,P1+ROUND(INT(((AJ9-8)*I1)),-1)) -> 1500 | L36: =IF((AJ11)<=8,P1,P1+ROUND(INT(((AJ11-8)*I1)),-1)) -> 1500 | N36: =IF((AJ13)<=8,P1,P1+ROUND(INT(((AJ13-8)*I1)),-1)) -> 1500 | P36: =IF((AJ15)<=8,P1,P1+ROUND(INT(((AJ15-8)*I1)),-1)) -> 1500 | R36: =IF((AJ17)<=8,P1,P1+ROUND(INT(((AJ17-8)*I1)),-1)) -> 1500 | T36: =IF((AJ19)<=8,P1,P1+ROUND(INT(((AJ19-8)*I1)),-1)) -> 1500 | V36: =IF((AJ21)<=8,P1,P1+ROUND(INT(((AJ21-8)*I1)),-1)) -> 1500 | X36: =IF((AJ23)<=8,P1,P1+ROUND(INT(((AJ23-8)*I1)),-1)) -> 1500 | Z36: =IF((AJ25)<=8,P1,P1+ROUND(INT(((AJ25-8)*I1)),-1)) -> 1500 | AB36: =IF((AJ27)<=8,P1,P1+ROUND(INT(((AJ27-8)*I1)),-1)) -> 1500 | AD36: =IF((AJ29)<=8,P1,P1+ROUND(INT(((AJ29-8)*I1)),-1)) -> 1500 | AF36: =IF((AJ31)<=8,P1,P1+ROUND(INT(((AJ31-8)*I1)),-1)) -> 1500 | AH36: =IF((AJ33)<=8,P1,P1+ROUND(INT(((AJ33-8)*I1)),-1)) -> 1500
A37: =AL37 -> 0 | C37: =MROUND(ROUNDDOWN(B38*0.8,-1),50) -> 2100 | E37: =C37-$S$1 -> 900 | G37: =ROUND(F38*0.8,-1) -> 1200 | I37: =ROUND(H38*0.8,-1) -> 1200 | K37: =ROUND(J38*0.8,-1) -> 1200 | M37: =ROUND(L38*0.8,-1) -> 1200 | O37: =ROUND(N38*0.8,-1) -> 1200 | Q37: =ROUND(P38*0.8,-1) -> 1200 | S37: =ROUND(R38*0.8,-1) -> 1200 | U37: =ROUND(T38*0.8,-1) -> 1200 | W37: =ROUND(V38*0.8,-1) -> 1200 | Y37: =ROUND(X38*0.8,-1) -> 1200 | AA37: =ROUND(Z38*0.8,-1) -> 1200 | AC37: =ROUND(AB38*0.8,-1) -> 1200 | AE37: =ROUND(AD38*0.8,-1) -> 1200 | AG37: =ROUND(AF38*0.8,-1) -> 1200 | AI37: =ROUND(AH38*0.8,-1) -> 1200 | AK37: =ROUND(AJ38*0.8,-1) -> 1200 | AP37: =AN37+AP39 -> 0
B38: =$P$1+MROUND(ROUNDDOWN(AL4*$I$1,-1),50) -> 2650 | D38: =B38-$P$1 -> 1150 | F38: =IF((AL5)<=8,P1,P1+ROUND(INT(((AL5-8)*I1)),-1)) -> 1500 | H38: =IF((AL7)<=8,P1,P1+ROUND(INT(((AL7-8)*I1)),-1)) -> 1500 | J38: =IF((AL9)<=8,P1,P1+ROUND(INT(((AL9-8)*I1)),-1)) -> 1500 | L38: =IF((AL11)<=8,P1,P1+ROUND(INT(((AL11-8)*I1)),-1)) -> 1500 | N38: =IF((AL13)<=8,P1,P1+ROUND(INT(((AL13-8)*I1)),-1)) -> 1500 | P38: =IF((AL15)<=8,P1,P1+ROUND(INT(((AL15-8)*I1)),-1)) -> 1500 | R38: =IF((AL17)<=8,P1,P1+ROUND(INT(((AL17-8)*I1)),-1)) -> 1500 | T38: =IF((AL19)<=8,P1,P1+ROUND(INT(((AL19-8)*I1)),-1)) -> 1500 | V38: =IF((AL21)<=8,P1,P1+ROUND(INT(((AL21-8)*I1)),-1)) -> 1500 | X38: =IF((AL23)<=8,P1,P1+ROUND(INT(((AL23-8)*I1)),-1)) -> 1500 | Z38: =IF((AL25)<=8,P1,P1+ROUND(INT(((AL25-8)*I1)),-1)) -> 1500 | AB38: =IF((AL27)<=8,P1,P1+ROUND(INT(((AL27-8)*I1)),-1)) -> 1500 | AD38: =IF((AL29)<=8,P1,P1+ROUND(INT(((AL29-8)*I1)),-1)) -> 1500 | AF38: =IF((AL31)<=8,P1,P1+ROUND(INT(((AL31-8)*I1)),-1)) -> 1500 | AH38: =IF((AL33)<=8,P1,P1+ROUND(INT(((AL33-8)*I1)),-1)) -> 1500 | AJ38: =IF((AL35)<=8,P1,P1+ROUND(INT(((AL35-8)*I1)),-1)) -> 1500
A39: =AN39 -> 0 | C39: =MROUND(ROUNDDOWN(B40*0.8,-1),50) -> 2100 | E39: =C39-$S$1 -> 900 | G39: =ROUND(F40*0.8,-1) -> 1200 | I39: =ROUND(H40*0.8,-1) -> 1200 | K39: =ROUND(J40*0.8,-1) -> 1200 | M39: =ROUND(L40*0.8,-1) -> 1200 | O39: =ROUND(N40*0.8,-1) -> 1200 | Q39: =ROUND(P40*0.8,-1) -> 1200 | S39: =ROUND(R40*0.8,-1) -> 1200 | U39: =ROUND(T40*0.8,-1) -> 1200 | W39: =ROUND(V40*0.8,-1) -> 1200 | Y39: =ROUND(X40*0.8,-1) -> 1200 | AA39: =ROUND(Z40*0.8,-1) -> 1200 | AC39: =ROUND(AB40*0.8,-1) -> 1200 | AE39: =ROUND(AD40*0.8,-1) -> 1200 | AG39: =ROUND(AF40*0.8,-1) -> 1200 | AI39: =ROUND(AH40*0.8,-1) -> 1200 | AK39: =ROUND(AJ40*0.8,-1) -> 1200 | AM39: =ROUND(AL40*0.8,-1) -> 1200
B40: =$P$1+MROUND(ROUNDDOWN(AN4*$I$1,-1),50) -> 2650 | D40: =B40-$P$1 -> 1150 | F40: =IF((AN5)<=8,P1,P1+ROUND(INT(((AN5-8)*I1)),-1)) -> 1500 | H40: =IF((AN7)<=8,P1,P1+ROUND(INT(((AN7-8)*I1)),-1)) -> 1500 | J40: =IF((AN9)<=8,P1,P1+ROUND(INT(((AN9-8)*I1)),-1)) -> 1500 | L40: =IF((AN11)<=8,P1,P1+ROUND(INT(((AN11-8)*I1)),-1)) -> 1500 | N40: =IF((AN13)<=8,P1,P1+ROUND(INT(((AN13-8)*I1)),-1)) -> 1500 | P40: =IF((AN15)<=8,P1,P1+ROUND(INT(((AN15-8)*I1)),-1)) -> 1500 | R40: =IF((AN17)<=8,P1,P1+ROUND(INT(((AN17-8)*I1)),-1)) -> 1500 | T40: =IF((AN19)<=8,P1,P1+ROUND(INT(((AN19-8)*I1)),-1)) -> 1500 | V40: =IF((AN21)<=8,P1,P1+ROUND(INT(((AN21-8)*I1)),-1)) -> 1500 | X40: =IF((AN23)<=8,P1,P1+ROUND(INT(((AN23-8)*I1)),-1)) -> 1500 | Z40: =IF((AN25)<=8,P1,P1+ROUND(INT(((AN25-8)*I1)),-1)) -> 1500 | AB40: =IF((AN27)<=8,P1,P1+ROUND(INT(((AN27-8)*I1)),-1)) -> 1500 | AD40: =IF((AN29)<=8,P1,P1+ROUND(INT(((AN29-8)*I1)),-1)) -> 1500 | AF40: =IF((AN31)<=8,P1,P1+ROUND(INT(((AN31-8)*I1)),-1)) -> 1500 | AH40: =IF((AN33)<=8,P1,P1+ROUND(INT(((AN33-8)*I1)),-1)) -> 1500 | AJ40: =IF((AN35)<=8,P1,P1+ROUND(INT(((AN35-8)*I1)),-1)) -> 1500 | AL40: =IF((AN37)<=8,P1,P1+ROUND(INT(((AN37-8)*I1)),-1)) -> 1500
...

Sheet 이서애통리구암
A1: 변 경 후
H2: 요율 | I2: =기본요금!C5 -> 131.82 | N2: 기본요금 | P2: =기본요금!C6 -> 1500 | R2: 중고생 | S2: =기본요금!C7 -> 1200 | V2: 기본요금거리 | X2: =[1]기본요금!C8 -> 8
B3: 전주- 이서-애통리-구암(노선번호 : 24번)
A4: 승강장명 | B4: 요금 | F4: 기본요금 및 환승지역 (전주시. 완주군 지역) | P4: 구간요금적용지역 (김제지역) | X4: =$B$4+X5 -> #VALUE! | Z4: =$B$4+Z5 -> #VALUE! | AB4: =$B$4+AB5 -> #VALUE! | AD4: =$B$4+AD5 -> #VALUE! | AF4: =$B$4+AF5 -> #VALUE! | AH4: =$B$4+AH5 -> #VALUE! | AJ4: =$B$4+AJ5 -> #VALUE! | AL4: =$B$4+AL5 -> #VALUE! | AN4: =$B$4+AN5 -> #VALUE! | AP4: =$B$4+AP5 -> #VALUE!
A5: 전주 상림동 | D5: 추가요금 | F5: 1 | H5: =+F5+H6 -> 2.5 | J5: =+H5+J8 -> 3.5 | L5: =J5+L10 -> 4.6 | N5: =L5+N12 -> 5.9 | P5: =+N5+P14 -> 7.3 | R5: =+P5+R16 -> 8.2 | T5: =+R5+T18 -> 8.6 | V5: =+T5+V20 -> 9.3 | X5: =+V5+X22 -> 9.3 | Z5: =+X5+Z24 -> 9.3 | AB5: =+Z5+AB26 -> 9.3 | AD5: =+AB5+AD28 -> 9.3 | AF5: =+AD5+AF30 -> 9.3 | AH5: =+AF5+AH32 -> 9.3 | AJ5: =+AH5+AJ34 -> 9.3 | AL5: =+AJ5+AL36 -> 9.3 | AN5: =+AL5+AN38 -> 9.3 | AP5: =+AN5+AP40 -> 9.3
A6: 새금동 | C6: =MROUND(ROUNDDOWN(B7*0.8,-1),50) -> 1300 | E6: =C6-$S$2 -> 100 | F6: 새금동 | H6: 1.5 | J6: =H6+J8 -> 2.5 | L6: =J6+L10 -> 3.6 | N6: =L6+N12 -> 4.9 | P6: =N6+P14 -> 6.3 | R6: =P6+R16 -> 7.2 | T6: =R6+T18 -> 7.6 | V6: =T6+V20 -> 8.3 | X6: =V6+X22 -> 8.3 | Z6: =X6+Z24 -> 8.3 | AB6: =Z6+AB26 -> 8.3 | AD6: =AB6+AD28 -> 8.3 | AF6: =AD6+AF30 -> 8.3 | AH6: =AF6+AH32 -> 8.3 | AJ6: =AH6+AJ34 -> 8.3 | AL6: =AJ6+AL36 -> 8.3 | AN6: =AL6+AN38 -> 8.3 | AP6: =AN6+AP40 -> 8.3
B7: =$P$2+MROUND(ROUNDDOWN(F5*$I$2,-1),50) -> 1650 | D7: =B7-$P$2 -> 150
A8: 돌꼭지 후농 | C8: =MROUND(ROUNDDOWN(B9*0.8,-1),50) -> 1450 | E8: =C8-$S$2 -> 250 | G8: =MROUND(ROUNDDOWN(F9*0.8,-1),50) -> 1200 | H8: 돌꼭지 후농 | J8: 1 | L8: =J8+L10 -> 2.1 | N8: =L8+N12 -> 3.4 | P8: =N8+P14 -> 4.8 | R8: =P8+R16 -> 5.7 | T8: =R8+T18 -> 6.1 | V8: =T8+V20 -> 6.8 | X8: =V8+X22 -> 6.8 | Z8: =X8+Z24 -> 6.8 | AB8: =Z8+AB26 -> 6.8 | AD8: =AB8+AD28 -> 6.8 | AF8: =AD8+AF30 -> 6.8 | AH8: =AF8+AH32 -> 6.8 | AJ8: =AH8+AJ34 -> 6.8 | AL8: =AJ8+AL36 -> 6.8 | AN8: =AL8+AN38 -> 6.8 | AP8: =AN8+AP40 -> 6.8
B9: =$P$2+MROUND(ROUNDDOWN(H5*$I$2,-1),50) -> 1800 | D9: =B9-$P$2 -> 300 | F9: =IF((H6)<=$X$2,$P$2,$P$2+MROUND(ROUNDDOWN((H6-$X$2)*$I$2,-1),50)) -> 1500
A10: 이서 | C10: =MROUND(ROUNDDOWN(B11*0.8,-1),50) -> 1550 | E10: =C10-$S$2 -> 350 | G10: =MROUND(ROUNDDOWN(F11*0.8,-1),50) -> 1200 | I10: =MROUND(ROUNDDOWN(H11*0.8,-1),50) -> 1200 | J10: 이서 | L10: 1.1 | N10: =L10+N12 -> 2.4 | P10: =N10+P14 -> 3.8 | R10: =P10+R16 -> 4.7 | T10: =R10+T18 -> 5.1 | V10: =T10+V20 -> 5.8 | X10: =V10+X22 -> 5.8 | Z10: =X10+Z24 -> 5.8 | AB10: =Z10+AB26 -> 5.8 | AD10: =AB10+AD28 -> 5.8 | AF10: =AD10+AF30 -> 5.8 | AH10: =AF10+AH32 -> 5.8 | AJ10: =AH10+AJ34 -> 5.8 | AL10: =AJ10+AL36 -> 5.8 | AN10: =AL10+AN38 -> 5.8 | AP10: =AN10+AP40 -> 5.8
B11: =$P$2+MROUND(ROUNDDOWN(J5*$I$2,-1),50) -> 1950 | D11: =B11-$P$2 -> 450 | F11: =IF((J6)<=$X$2,$P$2,$P$2+MROUND(ROUNDDOWN((J6-$X$2)*$I$2,-1),50)) -> 1500 | H11: =IF((J8)<=8,P2,P2+ROUND(INT(((J8-8)*I2)),-1)) -> 1500
A12: 모고지 은교 | C12: =MROUND(ROUNDDOWN(B13*0.8,-1),50) -> 1700 | E12: =C12-$S$2 -> 500 | G12: =MROUND(ROUNDDOWN(F13*0.8,-1),50) -> 1200 | I12: =MROUND(ROUNDDOWN(H13*0.8,-1),50) -> 1200 | K12: =MROUND(ROUNDDOWN(J13*0.8,-1),50) -> 1200 | L12: 모고지 은교 | N12: 1.3 | P12: =N12+P14 -> 2.7 | R12: =P12+R16 -> 3.6 | T12: =R12+T18 -> 4 | V12: =T12+V20 -> 4.7 | X12: =V12+X22 -> 4.7 | Z12: =X12+Z24 -> 4.7 | AB12: =Z12+AB26 -> 4.7 | AD12: =AB12+AD28 -> 4.7 | AF12: =AD12+AF30 -> 4.7 | AH12: =AF12+AH32 -> 4.7 | AJ12: =AH12+AJ34 -> 4.7 | AL12: =AJ12+AL36 -> 4.7 | AN12: =AL12+AN38 -> 4.7 | AP12: =AN12+AP40 -> 4.7
B13: =$P$2+MROUND(ROUNDDOWN(L5*$I$2,-1),50) -> 2100 | D13: =B13-$P$2 -> 600 | F13: =IF((L6)<=$X$2,$P$2,$P$2+MROUND(ROUNDDOWN((L6-$X$2)*$I$2,-1),50)) -> 1500 | H13: =IF((L8)<=8,P2,P2+ROUND(INT(((L8-8)*I2)),-1)) -> 1500 | J13: =IF((L10)<=8,P2,P2+ROUND(INT(((L10-8)*I2)),-1)) -> 1500
A14: 애통리 | C14: =MROUND(ROUNDDOWN(B15*0.8,-1),50) -> 1800 | E14: =C14-$S$2 -> 600 | G14: =MROUND(ROUNDDOWN(F15*0.8,-1),50) -> 1200 | I14: =MROUND(ROUNDDOWN(H15*0.8,-1),50) -> 1200 | K14: =MROUND(ROUNDDOWN(J15*0.8,-1),50) -> 1200 | M14: =MROUND(ROUNDDOWN(L15*0.8,-1),50) -> 1200 | N14: 애통리 | P14: 1.4 | R14: =P14+R16 -> 2.3 | T14: =R14+T18 -> 2.7 | V14: =T14+V20 -> 3.4 | X14: =V14+X22 -> 3.4 | Z14: =X14+Z24 -> 3.4 | AB14: =Z14+AB26 -> 3.4 | AD14: =AB14+AD28 -> 3.4 | AF14: =AD14+AF30 -> 3.4 | AH14: =AF14+AH32 -> 3.4 | AJ14: =AH14+AJ34 -> 3.4 | AL14: =AJ14+AL36 -> 3.4 | AN14: =AL14+AN38 -> 3.4 | AP14: =AN14+AP40 -> 3.4
B15: =$P$2+MROUND(ROUNDDOWN(N5*$I$2,-1),50) -> 2250 | D15: =B15-$P$2 -> 750 | F15: =IF((N6)<=$X$2,$P$2,$P$2+MROUND(ROUNDDOWN((N6-$X$2)*$I$2,-1),50)) -> 1500 | H15: =IF((N8)<=8,P2,P2+ROUND(INT(((N8-8)*I2)),-1)) -> 1500 | J15: =IF((N10)<=8,P2,P2+ROUND(INT(((N10-8)*I2)),-1)) -> 1500 | L15: =IF((N12)<=8,P2,P2+ROUND(INT(((N12-8)*I2)),-1)) -> 1500
A16: 신흥리 | C16: =MROUND(ROUNDDOWN(B17*0.8,-1),50) -> 1950 | E16: =C16-$S$2 -> 750 | G16: =MROUND(ROUNDDOWN(F17*0.8,-1),50) -> 1200 | I16: =MROUND(ROUNDDOWN(H17*0.8,-1),50) -> 1200 | K16: =MROUND(ROUNDDOWN(J17*0.8,-1),50) -> 1200 | M16: =MROUND(ROUNDDOWN(L17*0.8,-1),50) -> 1200 | O16: =MROUND(ROUNDDOWN(N17*0.8,-1),50) -> 1200 | P16: 신흥리 | R16: 0.9 | T16: =R16+T18 -> 1.3 | V16: =T16+V20 -> 2 | X16: =V16+X22 -> 2 | Z16: =X16+Z24 -> 2 | AB16: =Z16+AB26 -> 2 | AD16: =AB16+AD28 -> 2 | AF16: =AD16+AF30 -> 2 | AH16: =AF16+AH32 -> 2 | AJ16: =AH16+AJ34 -> 2 | AL16: =AJ16+AL36 -> 2 | AN16: =AL16+AN38 -> 2 | AP16: =AN16+AP40 -> 2
B17: =$P$2+MROUND(ROUNDDOWN(P5*$I$2,-1),50) -> 2450 | D17: =B17-$P$2 -> 950 | F17: =IF((P6)<=$X$2,$P$2,$P$2+MROUND(ROUNDDOWN((P6-$X$2)*$I$2,-1),50)) -> 1500 | H17: =IF((P8)<=8,P2,P2+ROUND(INT(((P8-8)*I2)),-1)) -> 1500 | J17: =IF((P10)<=8,P2,P2+ROUND(INT(((P10-8)*I2)),-1)) -> 1500 | L17: =IF((P12)<=8,P2,P2+ROUND(INT(((P12-8)*I2)),-1)) -> 1500 | N17: =IF((P14)<=8,P2,P2+ROUND(INT(((P14-8)*I2)),-1)) -> 1500
A18: 서둔 | C18: =MROUND(ROUNDDOWN(B19*0.8,-1),50) -> 2100 | E18: =C18-$S$2 -> 900 | G18: =MROUND(ROUNDDOWN(F19*0.8,-1),50) -> 1200 | I18: =MROUND(ROUNDDOWN(H19*0.8,-1),50) -> 1200 | K18: =MROUND(ROUNDDOWN(J19*0.8,-1),50) -> 1200 | M18: =MROUND(ROUNDDOWN(L19*0.8,-1),50) -> 1200 | O18: =MROUND(ROUNDDOWN(N19*0.8,-1),50) -> 1200 | Q18: =MROUND(ROUNDDOWN(P19*0.8,-1),50) -> 1200 | R18: 서둔 | T18: 0.4 | V18: =T18+V20 -> 1.1 | X18: =V18+X22 -> 1.1 | Z18: =X18+Z24 -> 1.1 | AB18: =Z18+AB26 -> 1.1 | AD18: =AB18+AD28 -> 1.1 | AF18: =AD18+AF30 -> 1.1 | AH18: =AF18+AH32 -> 1.1 | AJ18: =AH18+AJ34 -> 1.1 | AL18: =AJ18+AL36 -> 1.1 | AN18: =AL18+AN38 -> 1.1 | AP18: =AN18+AP40 -> 1.1
B19: =$P$2+MROUND(ROUNDDOWN(R5*$I$2,-1),50) -> 2600 | D19: =B19-$P$2 -> 1100 | F19: =IF((R6)<=$X$2,$P$2,$P$2+MROUND(ROUNDDOWN((R6-$X$2)*$I$2,-1),50)) -> 1500 | H19: =IF((R8)<=8,P2,P2+ROUND(INT(((R8-8)*I2)),-1)) -> 1500 | J19: =IF((R10)<=8,P2,P2+ROUND(INT(((R10-8)*I2)),-1)) -> 1500 | L19: =IF((R12)<=8,P2,P2+ROUND(INT(((R12-8)*I2)),-1)) -> 1500 | N19: =IF((R14)<=8,P2,P2+ROUND(INT(((R14-8)*I2)),-1)) -> 1500 | P19: =IF((R16)<=8,P2,P2+ROUND(INT(((R16-8)*I2)),-1)) -> 1500
A20: 동둔 | C20: =MROUND(ROUNDDOWN(B21*0.8,-1),50) -> 2100 | E20: =C20-$S$2 -> 900 | G20: =MROUND(ROUNDDOWN(F21*0.8,-1),50) -> 1200 | I20: =MROUND(ROUNDDOWN(H21*0.8,-1),50) -> 1200 | K20: =MROUND(ROUNDDOWN(J21*0.8,-1),50) -> 1200 | M20: =MROUND(ROUNDDOWN(L21*0.8,-1),50) -> 1200 | O20: =MROUND(ROUNDDOWN(N21*0.8,-1),50) -> 1200 | Q20: =MROUND(ROUNDDOWN(P21*0.8,-1),50) -> 1200 | S20: =MROUND(ROUNDDOWN(R21*0.8,-1),50) -> 1200 | T20: 동둔 | V20: 0.7 | X20: =V20+X22 -> 0.7 | Z20: =X20+Z24 -> 0.7 | AB20: =Z20+AB26 -> 0.7 | AD20: =AB20+AD28 -> 0.7 | AF20: =AD20+AF30 -> 0.7 | AH20: =AF20+AH32 -> 0.7 | AJ20: =AH20+AJ34 -> 0.7 | AL20: =AJ20+AL36 -> 0.7 | AN20: =AL20+AN38 -> 0.7 | AP20: =AN20+AP40 -> 0.7
B21: =$P$2+MROUND(ROUNDDOWN(T5*$I$2,-1),50) -> 2650 | D21: =B21-$P$2 -> 1150 | F21: =IF((T6)<=$X$2,$P$2,$P$2+MROUND(ROUNDDOWN((T6-$X$2)*$I$2,-1),50)) -> 1500 | H21: =IF((T8)<=8,P2,P2+ROUND(INT(((T8-8)*I2)),-1)) -> 1500 | J21: =IF((T10)<=8,P2,P2+ROUND(INT(((T10-8)*I2)),-1)) -> 1500 | L21: =IF((T12)<=8,P2,P2+ROUND(INT(((T12-8)*I2)),-1)) -> 1500 | N21: =IF((T14)<=8,P2,P2+ROUND(INT(((T14-8)*I2)),-1)) -> 1500 | P21: =IF((T16)<=8,P2,P2+ROUND(INT(((T16-8)*I2)),-1)) -> 1500 | R21: =IF((T18)<=8,P2,P2+ROUND(INT(((T18-8)*I2)),-1)) -> 1500
A22: 구암 | C22: =MROUND(ROUNDDOWN(B23*0.8,-1),50) -> 2150 | E22: =C22-$S$2 -> 950 | G22: =MROUND(ROUNDDOWN(F23*0.8,-1),50) -> 1250 | I22: =MROUND(ROUNDDOWN(H23*0.8,-1),50) -> 1200 | K22: =MROUND(ROUNDDOWN(J23*0.8,-1),50) -> 1200 | M22: =MROUND(ROUNDDOWN(L23*0.8,-1),50) -> 1200 | O22: =MROUND(ROUNDDOWN(N23*0.8,-1),50) -> 1200 | Q22: =MROUND(ROUNDDOWN(P23*0.8,-1),50) -> 1200 | S22: =MROUND(ROUNDDOWN(R23*0.8,-1),50) -> 1200 | U22: =MROUND(ROUNDDOWN(T23*0.8,-1),50) -> 1200 | V22: 구암 | Z22: =X22+Z24 -> 0 | AB22: =Z22+AB26 -> 0 | AD22: =AB22+AD28 -> 0 | AF22: =AD22+AF30 -> 0 | AH22: =AF22+AH32 -> 0 | AJ22: =AH22+AJ34 -> 0 | AL22: =AJ22+AL36 -> 0 | AN22: =AL22+AN38 -> 0 | AP22: =AN22+AP40 -> 0
B23: =$P$2+MROUND(ROUNDDOWN(V5*$I$2,-1),50) -> 2700 | D23: =B23-$P$2 -> 1200 | F23: =IF((V6)<=$X$2,$P$2,$P$2+MROUND(ROUNDDOWN((V6-$X$2)*$I$2,-1),50)) -> 1550 | H23: =IF((V8)<=$X$2,$P$2,$P$2+MROUND(ROUNDDOWN((V8-$X$2)*$I$2,-1),50)) -> 1500 | J23: =IF((V10)<=8,P2,P2+ROUND(INT(((V10-8)*I2)),-1)) -> 1500 | L23: =IF((V12)<=8,P2,P2+ROUND(INT(((V12-8)*I2)),-1)) -> 1500 | N23: =IF((V14)<=8,P2,P2+ROUND(INT(((V14-8)*I2)),-1)) -> 1500 | P23: =IF((V16)<=8,P2,P2+ROUND(INT(((V16-8)*I2)),-1)) -> 1500 | R23: =IF((V18)<=8,P2,P2+ROUND(INT(((V18-8)*I2)),-1)) -> 1500 | T23: =IF((V20)<=8,P2,P2+ROUND(INT(((V20-8)*I2)),-1)) -> 1500
A24: =X24 -> 0 | C24: =MROUND(ROUNDDOWN(B25*0.8,-1),50) -> 2150 | E24: =C24-$S$2 -> 950 | G24: =MROUND(ROUNDDOWN(F25*0.8,-1),50) -> 1250 | I24: =ROUND(H25*0.8,-1) -> 1200 | K24: =ROUND(J25*0.8,-1) -> 1200 | M24: =ROUND(L25*0.8,-1) -> 1200 | O24: =ROUND(N25*0.8,-1) -> 1200 | Q24: =ROUND(P25*0.8,-1) -> 1200 | S24: =ROUND(R25*0.8,-1) -> 1200 | U24: =ROUND(T25*0.8,-1) -> 1200 | W24: =ROUND(V25*0.8,-1) -> 1200 | AB24: =Z24+AB26 -> 0 | AD24: =AB24+AD28 -> 0 | AF24: =AD24+AF30 -> 0 | AH24: =AF24+AH32 -> 0 | AJ24: =AH24+AJ34 -> 0 | AL24: =AJ24+AL36 -> 0 | AN24: =AL24+AN38 -> 0 | AP24: =AN24+AP40 -> 0
B25: =$P$2+MROUND(ROUNDDOWN(X5*$I$2,-1),50) -> 2700 | D25: =B25-$P$2 -> 1200 | F25: =IF((X6)<=$X$2,$P$2,$P$2+MROUND(ROUNDDOWN((X6-$X$2)*$I$2,-1),50)) -> 1550 | H25: =IF((X8)<=8,P2,P2+ROUND(INT(((X8-8)*I2)),-1)) -> 1500 | J25: =IF((X10)<=8,P2,P2+ROUND(INT(((X10-8)*I2)),-1)) -> 1500 | L25: =IF((X12)<=8,P2,P2+ROUND(INT(((X12-8)*I2)),-1)) -> 1500 | N25: =IF((X14)<=8,P2,P2+ROUND(INT(((X14-8)*I2)),-1)) -> 1500 | P25: =IF((X16)<=8,P2,P2+ROUND(INT(((X16-8)*I2)),-1)) -> 1500 | R25: =IF((X18)<=8,P2,P2+ROUND(INT(((X18-8)*I2)),-1)) -> 1500 | T25: =IF((X20)<=8,P2,P2+ROUND(INT(((X20-8)*I2)),-1)) -> 1500 | V25: =IF((X22)<=8,P2,P2+ROUND(INT(((X22-8)*I2)),-1)) -> 1500
A26: =Z26 -> 0 | C26: =MROUND(ROUNDDOWN(B27*0.8,-1),50) -> 2150 | E26: =C26-$S$2 -> 950 | G26: =MROUND(ROUNDDOWN(F27*0.8,-1),50) -> 1250 | I26: =ROUND(H27*0.8,-1) -> 1200 | K26: =ROUND(J27*0.8,-1) -> 1200 | M26: =ROUND(L27*0.8,-1) -> 1200 | O26: =ROUND(N27*0.8,-1) -> 1200 | Q26: =ROUND(P27*0.8,-1) -> 1200 | S26: =ROUND(R27*0.8,-1) -> 1200 | U26: =ROUND(T27*0.8,-1) -> 1200 | W26: =ROUND(V27*0.8,-1) -> 1200 | Y26: =ROUND(X27*0.8,-1) -> 1200 | AD26: =AB26+AD28 -> 0 | AF26: =AD26+AF30 -> 0 | AH26: =AF26+AH32 -> 0 | AJ26: =AH26+AJ34 -> 0 | AL26: =AJ26+AL36 -> 0 | AN26: =AL26+AN38 -> 0 | AP26: =AN26+AP40 -> 0
B27: =$P$2+MROUND(ROUNDDOWN(Z5*$I$2,-1),50) -> 2700 | D27: =B27-$P$2 -> 1200 | F27: =IF((Z6)<=$X$2,$P$2,$P$2+MROUND(ROUNDDOWN((Z6-$X$2)*$I$2,-1),50)) -> 1550 | H27: =IF((Z8)<=8,P2,P2+ROUND(INT(((Z8-8)*I2)),-1)) -> 1500 | J27: =IF((Z10)<=8,P2,P2+ROUND(INT(((Z10-8)*I2)),-1)) -> 1500 | L27: =IF((Z12)<=8,P2,P2+ROUND(INT(((Z12-8)*I2)),-1)) -> 1500 | N27: =IF((Z14)<=8,P2,P2+ROUND(INT(((Z14-8)*I2)),-1)) -> 1500 | P27: =IF((Z16)<=8,P2,P2+ROUND(INT(((Z16-8)*I2)),-1)) -> 1500 | R27: =IF((Z18)<=8,P2,P2+ROUND(INT(((Z18-8)*I2)),-1)) -> 1500 | T27: =IF((Z20)<=8,P2,P2+ROUND(INT(((Z20-8)*I2)),-1)) -> 1500 | V27: =IF((Z22)<=8,P2,P2+ROUND(INT(((Z22-8)*I2)),-1)) -> 1500 | X27: =IF((Z24)<=8,P2,P2+ROUND(INT(((Z24-8)*I2)),-1)) -> 1500
A28: =AB28 -> 0 | C28: =MROUND(ROUNDDOWN(B29*0.8,-1),50) -> 2150 | E28: =C28-$S$2 -> 950 | G28: =MROUND(ROUNDDOWN(F29*0.8,-1),50) -> 1250 | I28: =ROUND(H29*0.8,-1) -> 1200 | K28: =ROUND(J29*0.8,-1) -> 1200 | M28: =ROUND(L29*0.8,-1) -> 1200 | O28: =ROUND(N29*0.8,-1) -> 1200 | Q28: =ROUND(P29*0.8,-1) -> 1200 | S28: =ROUND(R29*0.8,-1) -> 1200 | U28: =ROUND(T29*0.8,-1) -> 1200 | W28: =ROUND(V29*0.8,-1) -> 1200 | Y28: =ROUND(X29*0.8,-1) -> 1200 | AA28: =ROUND(Z29*0.8,-1) -> 1200 | AF28: =AD28+AF30 -> 0 | AH28: =AF28+AH32 -> 0 | AJ28: =AH28+AJ34 -> 0 | AL28: =AJ28+AL36 -> 0 | AN28: =AL28+AN38 -> 0 | AP28: =AN28+AP40 -> 0
B29: =$P$2+MROUND(ROUNDDOWN(AB5*$I$2,-1),50) -> 2700 | D29: =B29-$P$2 -> 1200 | F29: =IF((AB6)<=$X$2,$P$2,$P$2+MROUND(ROUNDDOWN((AB6-$X$2)*$I$2,-1),50)) -> 1550 | H29: =IF((AB8)<=8,P2,P2+ROUND(INT(((AB8-8)*I2)),-1)) -> 1500 | J29: =IF((AB10)<=8,P2,P2+ROUND(INT(((AB10-8)*I2)),-1)) -> 1500 | L29: =IF((AB12)<=8,P2,P2+ROUND(INT(((AB12-8)*I2)),-1)) -> 1500 | N29: =IF((AB14)<=8,P2,P2+ROUND(INT(((AB14-8)*I2)),-1)) -> 1500 | P29: =IF((AB16)<=8,P2,P2+ROUND(INT(((AB16-8)*I2)),-1)) -> 1500 | R29: =IF((AB18)<=8,P2,P2+ROUND(INT(((AB18-8)*I2)),-1)) -> 1500 | T29: =IF((AB20)<=8,P2,P2+ROUND(INT(((AB20-8)*I2)),-1)) -> 1500 | V29: =IF((AB22)<=8,P2,P2+ROUND(INT(((AB22-8)*I2)),-1)) -> 1500 | X29: =IF((AB24)<=8,P2,P2+ROUND(INT(((AB24-8)*I2)),-1)) -> 1500 | Z29: =IF((AB26)<=8,P2,P2+ROUND(INT(((AB26-8)*I2)),-1)) -> 1500
A30: =AD30 -> 0 | C30: =MROUND(ROUNDDOWN(B31*0.8,-1),50) -> 2150 | E30: =C30-$S$2 -> 950 | G30: =MROUND(ROUNDDOWN(F31*0.8,-1),50) -> 1250 | I30: =ROUND(H31*0.8,-1) -> 1200 | K30: =ROUND(J31*0.8,-1) -> 1200 | M30: =ROUND(L31*0.8,-1) -> 1200 | O30: =ROUND(N31*0.8,-1) -> 1200 | Q30: =ROUND(P31*0.8,-1) -> 1200 | S30: =ROUND(R31*0.8,-1) -> 1200 | U30: =ROUND(T31*0.8,-1) -> 1200 | W30: =ROUND(V31*0.8,-1) -> 1200 | Y30: =ROUND(X31*0.8,-1) -> 1200 | AA30: =ROUND(Z31*0.8,-1) -> 1200 | AC30: =ROUND(AB31*0.8,-1) -> 1200 | AH30: =AF30+AH32 -> 0 | AJ30: =AH30+AJ34 -> 0 | AL30: =AJ30+AL36 -> 0 | AN30: =AL30+AN38 -> 0 | AP30: =AN30+AP40 -> 0
B31: =$P$2+MROUND(ROUNDDOWN(AD5*$I$2,-1),50) -> 2700 | D31: =B31-$P$2 -> 1200 | F31: =IF((AD6)<=$X$2,$P$2,$P$2+MROUND(ROUNDDOWN((AD6-$X$2)*$I$2,-1),50)) -> 1550 | H31: =IF((AD8)<=8,P2,P2+ROUND(INT(((AD8-8)*I2)),-1)) -> 1500 | J31: =IF((AD10)<=8,P2,P2+ROUND(INT(((AD10-8)*I2)),-1)) -> 1500 | L31: =IF((AD12)<=8,P2,P2+ROUND(INT(((AD12-8)*I2)),-1)) -> 1500 | N31: =IF((AD14)<=8,P2,P2+ROUND(INT(((AD14-8)*I2)),-1)) -> 1500 | P31: =IF((AD16)<=8,P2,P2+ROUND(INT(((AD16-8)*I2)),-1)) -> 1500 | R31: =IF((AD18)<=8,P2,P2+ROUND(INT(((AD18-8)*I2)),-1)) -> 1500 | T31: =IF((AD20)<=8,P2,P2+ROUND(INT(((AD20-8)*I2)),-1)) -> 1500 | V31: =IF((AD22)<=8,P2,P2+ROUND(INT(((AD22-8)*I2)),-1)) -> 1500 | X31: =IF((AD24)<=8,P2,P2+ROUND(INT(((AD24-8)*I2)),-1)) -> 1500 | Z31: =IF((AD26)<=8,P2,P2+ROUND(INT(((AD26-8)*I2)),-1)) -> 1500 | AB31: =IF((AD28)<=8,P2,P2+ROUND(INT(((AD28-8)*I2)),-1)) -> 1500
A32: =AF32 -> 0 | C32: =MROUND(ROUNDDOWN(B33*0.8,-1),50) -> 2150 | E32: =C32-$S$2 -> 950 | G32: =MROUND(ROUNDDOWN(F33*0.8,-1),50) -> 1250 | I32: =ROUND(H33*0.8,-1) -> 1200 | K32: =ROUND(J33*0.8,-1) -> 1200 | M32: =ROUND(L33*0.8,-1) -> 1200 | O32: =ROUND(N33*0.8,-1) -> 1200 | Q32: =ROUND(P33*0.8,-1) -> 1200 | S32: =ROUND(R33*0.8,-1) -> 1200 | U32: =ROUND(T33*0.8,-1) -> 1200 | W32: =ROUND(V33*0.8,-1) -> 1200 | Y32: =ROUND(X33*0.8,-1) -> 1200 | AA32: =ROUND(Z33*0.8,-1) -> 1200 | AC32: =ROUND(AB33*0.8,-1) -> 1200 | AE32: =ROUND(AD33*0.8,-1) -> 1200 | AJ32: =AH32+AJ34 -> 0 | AL32: =AJ32+AL36 -> 0 | AN32: =AL32+AN38 -> 0 | AP32: =AN32+AP40 -> 0
B33: =$P$2+MROUND(ROUNDDOWN(AF5*$I$2,-1),50) -> 2700 | D33: =B33-$P$2 -> 1200 | F33: =IF((AF6)<=$X$2,$P$2,$P$2+MROUND(ROUNDDOWN((AF6-$X$2)*$I$2,-1),50)) -> 1550 | H33: =IF((AF8)<=8,P2,P2+ROUND(INT(((AF8-8)*I2)),-1)) -> 1500 | J33: =IF((AF10)<=8,P2,P2+ROUND(INT(((AF10-8)*I2)),-1)) -> 1500 | L33: =IF((AF12)<=8,P2,P2+ROUND(INT(((AF12-8)*I2)),-1)) -> 1500 | N33: =IF((AF14)<=8,P2,P2+ROUND(INT(((AF14-8)*I2)),-1)) -> 1500 | P33: =IF((AF16)<=8,P2,P2+ROUND(INT(((AF16-8)*I2)),-1)) -> 1500 | R33: =IF((AF18)<=8,P2,P2+ROUND(INT(((AF18-8)*I2)),-1)) -> 1500 | T33: =IF((AF20)<=8,P2,P2+ROUND(INT(((AF20-8)*I2)),-1)) -> 1500 | V33: =IF((AF22)<=8,P2,P2+ROUND(INT(((AF22-8)*I2)),-1)) -> 1500 | X33: =IF((AF24)<=8,P2,P2+ROUND(INT(((AF24-8)*I2)),-1)) -> 1500 | Z33: =IF((AF26)<=8,P2,P2+ROUND(INT(((AF26-8)*I2)),-1)) -> 1500 | AB33: =IF((AF28)<=8,P2,P2+ROUND(INT(((AF28-8)*I2)),-1)) -> 1500 | AD33: =IF((AF30)<=8,P2,P2+ROUND(INT(((AF30-8)*I2)),-1)) -> 1500
A34: =AH34 -> 0 | C34: =MROUND(ROUNDDOWN(B35*0.8,-1),50) -> 2150 | E34: =C34-$S$2 -> 950 | G34: =MROUND(ROUNDDOWN(F35*0.8,-1),50) -> 1250 | I34: =ROUND(H35*0.8,-1) -> 1200 | K34: =ROUND(J35*0.8,-1) -> 1200 | M34: =ROUND(L35*0.8,-1) -> 1200 | O34: =ROUND(N35*0.8,-1) -> 1200 | Q34: =ROUND(P35*0.8,-1) -> 1200 | S34: =ROUND(R35*0.8,-1) -> 1200 | U34: =ROUND(T35*0.8,-1) -> 1200 | W34: =ROUND(V35*0.8,-1) -> 1200 | Y34: =ROUND(X35*0.8,-1) -> 1200 | AA34: =ROUND(Z35*0.8,-1) -> 1200 | AC34: =ROUND(AB35*0.8,-1) -> 1200 | AE34: =ROUND(AD35*0.8,-1) -> 1200 | AG34: =ROUND(AF35*0.8,-1) -> 1200 | AL34: =AJ34+AL36 -> 0 | AN34: =AL34+AN38 -> 0 | AP34: =AN34+AP40 -> 0
B35: =$P$2+MROUND(ROUNDDOWN(AH5*$I$2,-1),50) -> 2700 | D35: =B35-$P$2 -> 1200 | F35: =IF((AH6)<=$X$2,$P$2,$P$2+MROUND(ROUNDDOWN((AH6-$X$2)*$I$2,-1),50)) -> 1550 | H35: =IF((AH8)<=8,P2,P2+ROUND(INT(((AH8-8)*I2)),-1)) -> 1500 | J35: =IF((AH10)<=8,P2,P2+ROUND(INT(((AH10-8)*I2)),-1)) -> 1500 | L35: =IF((AH12)<=8,P2,P2+ROUND(INT(((AH12-8)*I2)),-1)) -> 1500 | N35: =IF((AH14)<=8,P2,P2+ROUND(INT(((AH14-8)*I2)),-1)) -> 1500 | P35: =IF((AH16)<=8,P2,P2+ROUND(INT(((AH16-8)*I2)),-1)) -> 1500 | R35: =IF((AH18)<=8,P2,P2+ROUND(INT(((AH18-8)*I2)),-1)) -> 1500 | T35: =IF((AH20)<=8,P2,P2+ROUND(INT(((AH20-8)*I2)),-1)) -> 1500 | V35: =IF((AH22)<=8,P2,P2+ROUND(INT(((AH22-8)*I2)),-1)) -> 1500 | X35: =IF((AH24)<=8,P2,P2+ROUND(INT(((AH24-8)*I2)),-1)) -> 1500 | Z35: =IF((AH26)<=8,P2,P2+ROUND(INT(((AH26-8)*I2)),-1)) -> 1500 | AB35: =IF((AH28)<=8,P2,P2+ROUND(INT(((AH28-8)*I2)),-1)) -> 1500 | AD35: =IF((AH30)<=8,P2,P2+ROUND(INT(((AH30-8)*I2)),-1)) -> 1500 | AF35: =IF((AH32)<=8,P2,P2+ROUND(INT(((AH32-8)*I2)),-1)) -> 1500
A36: =AJ36 -> 0 | C36: =MROUND(ROUNDDOWN(B37*0.8,-1),50) -> 2150 | E36: =C36-$S$2 -> 950 | G36: =MROUND(ROUNDDOWN(F37*0.8,-1),50) -> 1250 | I36: =ROUND(H37*0.8,-1) -> 1200 | K36: =ROUND(J37*0.8,-1) -> 1200 | M36: =ROUND(L37*0.8,-1) -> 1200 | O36: =ROUND(N37*0.8,-1) -> 1200 | Q36: =ROUND(P37*0.8,-1) -> 1200 | S36: =ROUND(R37*0.8,-1) -> 1200 | U36: =ROUND(T37*0.8,-1) -> 1200 | W36: =ROUND(V37*0.8,-1) -> 1200 | Y36: =ROUND(X37*0.8,-1) -> 1200 | AA36: =ROUND(Z37*0.8,-1) -> 1200 | AC36: =ROUND(AB37*0.8,-1) -> 1200 | AE36: =ROUND(AD37*0.8,-1) -> 1200 | AG36: =ROUND(AF37*0.8,-1) -> 1200 | AI36: =ROUND(AH37*0.8,-1) -> 1200 | AN36: =AL36+AN38 -> 0 | AP36: =AN36+AP40 -> 0
B37: =$P$2+MROUND(ROUNDDOWN(AJ5*$I$2,-1),50) -> 2700 | D37: =B37-$P$2 -> 1200 | F37: =IF((AJ6)<=$X$2,$P$2,$P$2+MROUND(ROUNDDOWN((AJ6-$X$2)*$I$2,-1),50)) -> 1550 | H37: =IF((AJ8)<=8,P2,P2+ROUND(INT(((AJ8-8)*I2)),-1)) -> 1500 | J37: =IF((AJ10)<=8,P2,P2+ROUND(INT(((AJ10-8)*I2)),-1)) -> 1500 | L37: =IF((AJ12)<=8,P2,P2+ROUND(INT(((AJ12-8)*I2)),-1)) -> 1500 | N37: =IF((AJ14)<=8,P2,P2+ROUND(INT(((AJ14-8)*I2)),-1)) -> 1500 | P37: =IF((AJ16)<=8,P2,P2+ROUND(INT(((AJ16-8)*I2)),-1)) -> 1500 | R37: =IF((AJ18)<=8,P2,P2+ROUND(INT(((AJ18-8)*I2)),-1)) -> 1500 | T37: =IF((AJ20)<=8,P2,P2+ROUND(INT(((AJ20-8)*I2)),-1)) -> 1500 | V37: =IF((AJ22)<=8,P2,P2+ROUND(INT(((AJ22-8)*I2)),-1)) -> 1500 | X37: =IF((AJ24)<=8,P2,P2+ROUND(INT(((AJ24-8)*I2)),-1)) -> 1500 | Z37: =IF((AJ26)<=8,P2,P2+ROUND(INT(((AJ26-8)*I2)),-1)) -> 1500 | AB37: =IF((AJ28)<=8,P2,P2+ROUND(INT(((AJ28-8)*I2)),-1)) -> 1500 | AD37: =IF((AJ30)<=8,P2,P2+ROUND(INT(((AJ30-8)*I2)),-1)) -> 1500 | AF37: =IF((AJ32)<=8,P2,P2+ROUND(INT(((AJ32-8)*I2)),-1)) -> 1500 | AH37: =IF((AJ34)<=8,P2,P2+ROUND(INT(((AJ34-8)*I2)),-1)) -> 1500
A38: =AL38 -> 0 | C38: =MROUND(ROUNDDOWN(B39*0.8,-1),50) -> 2150 | E38: =C38-$S$2 -> 950 | G38: =MROUND(ROUNDDOWN(F39*0.8,-1),50) -> 1250 | I38: =ROUND(H39*0.8,-1) -> 1200 | K38: =ROUND(J39*0.8,-1) -> 1200 | M38: =ROUND(L39*0.8,-1) -> 1200 | O38: =ROUND(N39*0.8,-1) -> 1200 | Q38: =ROUND(P39*0.8,-1) -> 1200 | S38: =ROUND(R39*0.8,-1) -> 1200 | U38: =ROUND(T39*0.8,-1) -> 1200 | W38: =ROUND(V39*0.8,-1) -> 1200 | Y38: =ROUND(X39*0.8,-1) -> 1200 | AA38: =ROUND(Z39*0.8,-1) -> 1200 | AC38: =ROUND(AB39*0.8,-1) -> 1200 | AE38: =ROUND(AD39*0.8,-1) -> 1200 | AG38: =ROUND(AF39*0.8,-1) -> 1200 | AI38: =ROUND(AH39*0.8,-1) -> 1200 | AK38: =ROUND(AJ39*0.8,-1) -> 1200 | AP38: =AN38+AP40 -> 0
B39: =$P$2+MROUND(ROUNDDOWN(AL5*$I$2,-1),50) -> 2700 | D39: =B39-$P$2 -> 1200 | F39: =IF((AL6)<=$X$2,$P$2,$P$2+MROUND(ROUNDDOWN((AL6-$X$2)*$I$2,-1),50)) -> 1550 | H39: =IF((AL8)<=8,P2,P2+ROUND(INT(((AL8-8)*I2)),-1)) -> 1500 | J39: =IF((AL10)<=8,P2,P2+ROUND(INT(((AL10-8)*I2)),-1)) -> 1500 | L39: =IF((AL12)<=8,P2,P2+ROUND(INT(((AL12-8)*I2)),-1)) -> 1500 | N39: =IF((AL14)<=8,P2,P2+ROUND(INT(((AL14-8)*I2)),-1)) -> 1500 | P39: =IF((AL16)<=8,P2,P2+ROUND(INT(((AL16-8)*I2)),-1)) -> 1500 | R39: =IF((AL18)<=8,P2,P2+ROUND(INT(((AL18-8)*I2)),-1)) -> 1500 | T39: =IF((AL20)<=8,P2,P2+ROUND(INT(((AL20-8)*I2)),-1)) -> 1500 | V39: =IF((AL22)<=8,P2,P2+ROUND(INT(((AL22-8)*I2)),-1)) -> 1500 | X39: =IF((AL24)<=8,P2,P2+ROUND(INT(((AL24-8)*I2)),-1)) -> 1500 | Z39: =IF((AL26)<=8,P2,P2+ROUND(INT(((AL26-8)*I2)),-1)) -> 1500 | AB39: =IF((AL28)<=8,P2,P2+ROUND(INT(((AL28-8)*I2)),-1)) -> 1500 | AD39: =IF((AL30)<=8,P2,P2+ROUND(INT(((AL30-8)*I2)),-1)) -> 1500 | AF39: =IF((AL32)<=8,P2,P2+ROUND(INT(((AL32-8)*I2)),-1)) -> 1500 | AH39: =IF((AL34)<=8,P2,P2+ROUND(INT(((AL34-8)*I2)),-1)) -> 1500 | AJ39: =IF((AL36)<=8,P2,P2+ROUND(INT(((AL36-8)*I2)),-1)) -> 1500
A40: =AN40 -> 0 | C40: =MROUND(ROUNDDOWN(B41*0.8,-1),50) -> 2150 | E40: =C40-$S$2 -> 950 | G40: =MROUND(ROUNDDOWN(F41*0.8,-1),50) -> 1250 | I40: =ROUND(H41*0.8,-1) -> 1200 | K40: =ROUND(J41*0.8,-1) -> 1200 | M40: =ROUND(L41*0.8,-1) -> 1200 | O40: =ROUND(N41*0.8,-1) -> 1200 | Q40: =ROUND(P41*0.8,-1) -> 1200 | S40: =ROUND(R41*0.8,-1) -> 1200 | U40: =ROUND(T41*0.8,-1) -> 1200 | W40: =ROUND(V41*0.8,-1) -> 1200 | Y40: =ROUND(X41*0.8,-1) -> 1200 | AA40: =ROUND(Z41*0.8,-1) -> 1200 | AC40: =ROUND(AB41*0.8,-1) -> 1200 | AE40: =ROUND(AD41*0.8,-1) -> 1200 | AG40: =ROUND(AF41*0.8,-1) -> 1200 | AI40: =ROUND(AH41*0.8,-1) -> 1200 | AK40: =ROUND(AJ41*0.8,-1) -> 1200 | AM40: =ROUND(AL41*0.8,-1) -> 1200
...

Sheet 이서애통리원마다리
H1: 요율 | I1: =기본요금!C5 -> 131.82 | N1: 기본요금 | P1: =기본요금!C6 -> 1500 | R1: 중고생 | S1: =기본요금!C7 -> 1200 | V1: 기본요금거리 | X1: =기본요금!C8 -> 8
B2: 전주- 이서-애통리-마다리(원마다리)(노선번호 : 20번)
A3: 승강장명 | B3: 요 금 | F3: 기본요금 및 환승지역 (전주시. 완주군 지역) | R3: 구간요금적용지역 (김제지역) | AB3: =$B$3+AB4 -> #VALUE! | AD3: =$B$3+AD4 -> #VALUE! | AF3: =$B$3+AF4 -> #VALUE! | AH3: =$B$3+AH4 -> #VALUE! | AJ3: =$B$3+AJ4 -> #VALUE! | AL3: =$B$3+AL4 -> #VALUE! | AN3: =$B$3+AN4 -> #VALUE! | AP3: =$B$3+AP4 -> #VALUE!
A4: 전주 상림동 | D4: 추가요금 | F4: 1 | H4: =+F4+H5 -> 2.5 | J4: =+H4+J7 -> 3.5 | L4: =J4+L9 -> 4.6 | N4: =L4+N11 -> 5.9 | P4: =+N4+P13 -> 7.1 | R4: =+P4+R15 -> 7.4 | T4: =+R4+T17 -> 8.6 | V4: =+T4+V19 -> 9.6 | X4: =+V4+X21 -> 10.5 | Z4: =+X4+Z23 -> 11.1 | AB4: =+Z4+AB25 -> 11.1 | AD4: =+AB4+AD27 -> 11.1 | AF4: =+AD4+AF29 -> 11.1 | AH4: =+AF4+AH31 -> 11.1 | AJ4: =+AH4+AJ33 -> 11.1 | AL4: =+AJ4+AL35 -> 11.1 | AN4: =+AL4+AN37 -> 11.1 | AP4: =+AN4+AP39 -> 11.1
A5: 새금동 | C5: =MROUND(ROUNDDOWN(B6*0.8,-1),50) -> 1300 | E5: =C5-$S$1 -> 100 | F5: 새금동 | H5: 1.5 | J5: =H5+J7 -> 2.5 | L5: =J5+L9 -> 3.6 | N5: =L5+N11 -> 4.9 | P5: =N5+P13 -> 6.1 | R5: =P5+R15 -> 6.4 | T5: =R5+T17 -> 7.6 | V5: =T5+V19 -> 8.6 | X5: =V5+X21 -> 9.5 | Z5: =X5+Z23 -> 10.1 | AB5: =Z5+AB25 -> 10.1 | AD5: =AB5+AD27 -> 10.1 | AF5: =AD5+AF29 -> 10.1 | AH5: =AF5+AH31 -> 10.1 | AJ5: =AH5+AJ33 -> 10.1 | AL5: =AJ5+AL35 -> 10.1 | AN5: =AL5+AN37 -> 10.1 | AP5: =AN5+AP39 -> 10.1
B6: =$P$1+MROUND(ROUNDDOWN(F4*$I$1,-1),50) -> 1650 | D6: =B6-$P$1 -> 150
A7: 돌꼭지 후농 | C7: =MROUND(ROUNDDOWN(B8*0.8,-1),50) -> 1450 | E7: =C7-$S$1 -> 250 | G7: =MROUND(ROUNDDOWN(F8*0.8,-1),50) -> 1200 | H7: 돌꼭지 후농 | J7: 1 | L7: =J7+L9 -> 2.1 | N7: =L7+N11 -> 3.4 | P7: =N7+P13 -> 4.6 | R7: =P7+R15 -> 4.9 | T7: =R7+T17 -> 6.1 | V7: =T7+V19 -> 7.1 | X7: =V7+X21 -> 8 | Z7: =X7+Z23 -> 8.6 | AB7: =Z7+AB25 -> 8.6 | AD7: =AB7+AD27 -> 8.6 | AF7: =AD7+AF29 -> 8.6 | AH7: =AF7+AH31 -> 8.6 | AJ7: =AH7+AJ33 -> 8.6 | AL7: =AJ7+AL35 -> 8.6 | AN7: =AL7+AN37 -> 8.6 | AP7: =AN7+AP39 -> 8.6
B8: =$P$1+MROUND(ROUNDDOWN(H4*$I$1,-1),50) -> 1800 | D8: =B8-$P$1 -> 300 | F8: =IF((H5)<=$X$1,$P$1,$P$1+MROUND(ROUNDDOWN((H5-$X$1)*$I$1,-1),50)) -> 1500
A9: 이서 | C9: =MROUND(ROUNDDOWN(B10*0.8,-1),50) -> 1550 | E9: =C9-$S$1 -> 350 | G9: =MROUND(ROUNDDOWN(F10*0.8,-1),50) -> 1200 | I9: =MROUND(ROUNDDOWN(H10*0.8,-1),50) -> 1200 | J9: 이서 | L9: 1.1 | N9: =L9+N11 -> 2.4 | P9: =N9+P13 -> 3.6 | R9: =P9+R15 -> 3.9 | T9: =R9+T17 -> 5.1 | V9: =T9+V19 -> 6.1 | X9: =V9+X21 -> 7 | Z9: =X9+Z23 -> 7.6 | AB9: =Z9+AB25 -> 7.6 | AD9: =AB9+AD27 -> 7.6 | AF9: =AD9+AF29 -> 7.6 | AH9: =AF9+AH31 -> 7.6 | AJ9: =AH9+AJ33 -> 7.6 | AL9: =AJ9+AL35 -> 7.6 | AN9: =AL9+AN37 -> 7.6 | AP9: =AN9+AP39 -> 7.6
B10: =$P$1+MROUND(ROUNDDOWN(J4*$I$1,-1),50) -> 1950 | D10: =B10-$P$1 -> 450 | F10: =IF((J5)<=$X$1,$P$1,$P$1+MROUND(ROUNDDOWN((J5-$X$1)*$I$1,-1),50)) -> 1500 | H10: =IF((J7)<=$X$1,$P$1,$P$1+MROUND(ROUNDDOWN((J7-$X$1)*$I$1,-1),50)) -> 1500
A11: 모고지 은교 | C11: =MROUND(ROUNDDOWN(B12*0.8,-1),50) -> 1700 | E11: =C11-$S$1 -> 500 | G11: =MROUND(ROUNDDOWN(F12*0.8,-1),50) -> 1200 | I11: =MROUND(ROUNDDOWN(H12*0.8,-1),50) -> 1200 | K11: =MROUND(ROUNDDOWN(J12*0.8,-1),50) -> 1200 | L11: 모고지 은교 | N11: 1.3 | P11: =N11+P13 -> 2.5 | R11: =P11+R15 -> 2.8 | T11: =R11+T17 -> 4 | V11: =T11+V19 -> 5 | X11: =V11+X21 -> 5.9 | Z11: =X11+Z23 -> 6.5 | AB11: =Z11+AB25 -> 6.5 | AD11: =AB11+AD27 -> 6.5 | AF11: =AD11+AF29 -> 6.5 | AH11: =AF11+AH31 -> 6.5 | AJ11: =AH11+AJ33 -> 6.5 | AL11: =AJ11+AL35 -> 6.5 | AN11: =AL11+AN37 -> 6.5 | AP11: =AN11+AP39 -> 6.5
B12: =$P$1+MROUND(ROUNDDOWN(L4*$I$1,-1),50) -> 2100 | D12: =B12-$P$1 -> 600 | F12: =IF((L5)<=$X$1,$P$1,$P$1+MROUND(ROUNDDOWN((L5-$X$1)*$I$1,-1),50)) -> 1500 | H12: =IF((L7)<=$X$1,$P$1,$P$1+MROUND(ROUNDDOWN((L7-$X$1)*$I$1,-1),50)) -> 1500 | J12: =IF((L9)<=8,P1,P1+ROUND(INT(((L9-8)*I1)),-1)) -> 1500
A13: 애통리 | C13: =MROUND(ROUNDDOWN(B14*0.8,-1),50) -> 1800 | E13: =C13-$S$1 -> 600 | G13: =MROUND(ROUNDDOWN(F14*0.8,-1),50) -> 1200 | I13: =MROUND(ROUNDDOWN(H14*0.8,-1),50) -> 1200 | K13: =MROUND(ROUNDDOWN(J14*0.8,-1),50) -> 1200 | M13: =MROUND(ROUNDDOWN(L14*0.8,-1),50) -> 1200 | N13: 애통리 | P13: 1.2 | R13: =P13+R15 -> 1.5 | T13: =R13+T17 -> 2.7 | V13: =T13+V19 -> 3.7 | X13: =V13+X21 -> 4.6 | Z13: =X13+Z23 -> 5.2 | AB13: =Z13+AB25 -> 5.2 | AD13: =AB13+AD27 -> 5.2 | AF13: =AD13+AF29 -> 5.2 | AH13: =AF13+AH31 -> 5.2 | AJ13: =AH13+AJ33 -> 5.2 | AL13: =AJ13+AL35 -> 5.2 | AN13: =AL13+AN37 -> 5.2 | AP13: =AN13+AP39 -> 5.2
B14: =$P$1+MROUND(ROUNDDOWN(N4*$I$1,-1),50) -> 2250 | D14: =B14-$P$1 -> 750 | F14: =IF((N5)<=$X$1,$P$1,$P$1+MROUND(ROUNDDOWN((N5-$X$1)*$I$1,-1),50)) -> 1500 | H14: =IF((N7)<=$X$1,$P$1,$P$1+MROUND(ROUNDDOWN((N7-$X$1)*$I$1,-1),50)) -> 1500 | J14: =IF((N9)<=8,P1,P1+ROUND(INT(((N9-8)*I1)),-1)) -> 1500 | L14: =IF((N11)<=8,P1,P1+ROUND(INT(((N11-8)*I1)),-1)) -> 1500
A15: 송삼마을 (산정리입구) | C15: =MROUND(ROUNDDOWN(B16*0.8,-1),50) -> 1950 | E15: =C15-$S$1 -> 750 | G15: =MROUND(ROUNDDOWN(F16*0.8,-1),50) -> 1200 | I15: =MROUND(ROUNDDOWN(H16*0.8,-1),50) -> 1200 | K15: =MROUND(ROUNDDOWN(J16*0.8,-1),50) -> 1200 | M15: =MROUND(ROUNDDOWN(L16*0.8,-1),50) -> 1200 | O15: =MROUND(ROUNDDOWN(N16*0.8,-1),50) -> 1200 | P15: 송삼마을 (산정리입구) | R15: 0.3 | T15: =R15+T17 -> 1.5 | V15: =T15+V19 -> 2.5 | X15: =V15+X21 -> 3.4 | Z15: =X15+Z23 -> 4 | AB15: =Z15+AB25 -> 4 | AD15: =AB15+AD27 -> 4 | AF15: =AD15+AF29 -> 4 | AH15: =AF15+AH31 -> 4 | AJ15: =AH15+AJ33 -> 4 | AL15: =AJ15+AL35 -> 4 | AN15: =AL15+AN37 -> 4 | AP15: =AN15+AP39 -> 4
B16: =$P$1+MROUND(ROUNDDOWN(P4*$I$1,-1),50) -> 2450 | D16: =B16-$P$1 -> 950 | F16: =IF((P5)<=$X$1,$P$1,$P$1+MROUND(ROUNDDOWN((P5-$X$1)*$I$1,-1),50)) -> 1500 | H16: =IF((P7)<=$X$1,$P$1,$P$1+MROUND(ROUNDDOWN((P7-$X$1)*$I$1,-1),50)) -> 1500 | J16: =IF((P9)<=8,P1,P1+ROUND(INT(((P9-8)*I1)),-1)) -> 1500 | L16: =IF((P11)<=8,P1,P1+ROUND(INT(((P11-8)*I1)),-1)) -> 1500 | N16: =IF((P13)<=8,P1,P1+ROUND(INT(((P13-8)*I1)),-1)) -> 1500
A17: 자홍마을 (행화촌) | C17: =MROUND(ROUNDDOWN(B18*0.8,-1),50) -> 1950 | E17: =C17-$S$1 -> 750 | G17: =MROUND(ROUNDDOWN(F18*0.8,-1),50) -> 1200 | I17: =MROUND(ROUNDDOWN(H18*0.8,-1),50) -> 1200 | K17: =MROUND(ROUNDDOWN(J18*0.8,-1),50) -> 1200 | M17: =MROUND(ROUNDDOWN(L18*0.8,-1),50) -> 1200 | O17: =MROUND(ROUNDDOWN(N18*0.8,-1),50) -> 1200 | Q17: =MROUND(ROUNDDOWN(P18*0.8,-1),50) -> 1200 | R17: 자홍마을 (행화촌) | T17: 1.2 | V17: =T17+V19 -> 2.2 | X17: =V17+X21 -> 3.1 | Z17: =X17+Z23 -> 3.7 | AB17: =Z17+AB25 -> 3.7 | AD17: =AB17+AD27 -> 3.7 | AF17: =AD17+AF29 -> 3.7 | AH17: =AF17+AH31 -> 3.7 | AJ17: =AH17+AJ33 -> 3.7 | AL17: =AJ17+AL35 -> 3.7 | AN17: =AL17+AN37 -> 3.7 | AP17: =AN17+AP39 -> 3.7
B18: =$P$1+MROUND(ROUNDDOWN(R4*$I$1,-1),50) -> 2450 | D18: =B18-$P$1 -> 950 | F18: =IF((R5)<=$X$1,$P$1,$P$1+MROUND(ROUNDDOWN((R5-$X$1)*$I$1,-1),50)) -> 1500 | H18: =IF((R7)<=$X$1,$P$1,$P$1+MROUND(ROUNDDOWN((R7-$X$1)*$I$1,-1),50)) -> 1500 | J18: =IF((R9)<=8,P1,P1+ROUND(INT(((R9-8)*I1)),-1)) -> 1500 | L18: =IF((R11)<=8,P1,P1+ROUND(INT(((R11-8)*I1)),-1)) -> 1500 | N18: =IF((R13)<=8,P1,P1+ROUND(INT(((R13-8)*I1)),-1)) -> 1500 | P18: =IF((R15)<=8,P1,P1+ROUND(INT(((R15-8)*I1)),-1)) -> 1500
A19: 신암 | C19: =MROUND(ROUNDDOWN(B20*0.8,-1),50) -> 2100 | E19: =C19-$S$1 -> 900 | G19: =MROUND(ROUNDDOWN(F20*0.8,-1),50) -> 1200 | I19: =MROUND(ROUNDDOWN(H20*0.8,-1),50) -> 1200 | K19: =MROUND(ROUNDDOWN(J20*0.8,-1),50) -> 1200 | M19: =MROUND(ROUNDDOWN(L20*0.8,-1),50) -> 1200 | O19: =MROUND(ROUNDDOWN(N20*0.8,-1),50) -> 1200 | Q19: =MROUND(ROUNDDOWN(P20*0.8,-1),50) -> 1200 | S19: =MROUND(ROUNDDOWN(R20*0.8,-1),50) -> 1200 | T19: 신암 | V19: 1 | X19: =V19+X21 -> 1.9 | Z19: =X19+Z23 -> 2.5 | AB19: =Z19+AB25 -> 2.5 | AD19: =AB19+AD27 -> 2.5 | AF19: =AD19+AF29 -> 2.5 | AH19: =AF19+AH31 -> 2.5 | AJ19: =AH19+AJ33 -> 2.5 | AL19: =AJ19+AL35 -> 2.5 | AN19: =AL19+AN37 -> 2.5 | AP19: =AN19+AP39 -> 2.5
B20: =$P$1+MROUND(ROUNDDOWN(T4*$I$1,-1),50) -> 2650 | D20: =B20-$P$1 -> 1150 | F20: =IF((T5)<=$X$1,$P$1,$P$1+MROUND(ROUNDDOWN((T5-$X$1)*$I$1,-1),50)) -> 1500 | H20: =IF((T7)<=$X$1,$P$1,$P$1+MROUND(ROUNDDOWN((T7-$X$1)*$I$1,-1),50)) -> 1500 | J20: =IF((T9)<=8,P1,P1+ROUND(INT(((T9-8)*I1)),-1)) -> 1500 | L20: =IF((T11)<=8,P1,P1+ROUND(INT(((T11-8)*I1)),-1)) -> 1500 | N20: =IF((T13)<=8,P1,P1+ROUND(INT(((T13-8)*I1)),-1)) -> 1500 | P20: =IF((T15)<=8,P1,P1+ROUND(INT(((T15-8)*I1)),-1)) -> 1500 | R20: =IF((T17)<=8,P1,P1+ROUND(INT(((T17-8)*I1)),-1)) -> 1500
A21: 비룡 신흥 | C21: =MROUND(ROUNDDOWN(B22*0.8,-1),50) -> 2200 | E21: =C21-$S$1 -> 1000 | G21: =MROUND(ROUNDDOWN(F22*0.8,-1),50) -> 1250 | I21: =MROUND(ROUNDDOWN(H22*0.8,-1),50) -> 1200 | K21: =MROUND(ROUNDDOWN(J22*0.8,-1),50) -> 1200 | M21: =MROUND(ROUNDDOWN(L22*0.8,-1),50) -> 1200 | O21: =MROUND(ROUNDDOWN(N22*0.8,-1),50) -> 1200 | Q21: =MROUND(ROUNDDOWN(P22*0.8,-1),50) -> 1200 | S21: =MROUND(ROUNDDOWN(R22*0.8,-1),50) -> 1200 | U21: =MROUND(ROUNDDOWN(T22*0.8,-1),50) -> 1200 | V21: 비룡 신흥 | X21: 0.9 | Z21: =X21+Z23 -> 1.5 | AB21: =Z21+AB25 -> 1.5 | AD21: =AB21+AD27 -> 1.5 | AF21: =AD21+AF29 -> 1.5 | AH21: =AF21+AH31 -> 1.5 | AJ21: =AH21+AJ33 -> 1.5 | AL21: =AJ21+AL35 -> 1.5 | AN21: =AL21+AN37 -> 1.5 | AP21: =AN21+AP39 -> 1.5
B22: =$P$1+MROUND(ROUNDDOWN(V4*$I$1,-1),50) -> 2750 | D22: =B22-$P$1 -> 1250 | F22: =IF((V5)<=$X$1,$P$1,$P$1+MROUND(ROUNDDOWN((V5-$X$1)*$I$1,-1),50)) -> 1550 | H22: =IF((V7)<=$X$1,$P$1,$P$1+MROUND(ROUNDDOWN((V7-$X$1)*$I$1,-1),50)) -> 1500 | J22: =IF((V9)<=8,P1,P1+ROUND(INT(((V9-8)*I1)),-1)) -> 1500 | L22: =IF((V11)<=8,P1,P1+ROUND(INT(((V11-8)*I1)),-1)) -> 1500 | N22: =IF((V13)<=8,P1,P1+ROUND(INT(((V13-8)*I1)),-1)) -> 1500 | P22: =IF((V15)<=8,P1,P1+ROUND(INT(((V15-8)*I1)),-1)) -> 1500 | R22: =IF((V17)<=8,P1,P1+ROUND(INT(((V17-8)*I1)),-1)) -> 1500 | T22: =IF((V19)<=8,P1,P1+ROUND(INT(((V19-8)*I1)),-1)) -> 1500
A23: 마다리 | C23: =MROUND(ROUNDDOWN(B24*0.8,-1),50) -> 2300 | E23: =C23-$S$1 -> 1100 | G23: =MROUND(ROUNDDOWN(F24*0.8,-1),50) -> 1350 | I23: =MROUND(ROUNDDOWN(H24*0.8,-1),50) -> 1200 | K23: =MROUND(ROUNDDOWN(J24*0.8,-1),50) -> 1200 | M23: =MROUND(ROUNDDOWN(L24*0.8,-1),50) -> 1200 | O23: =MROUND(ROUNDDOWN(N24*0.8,-1),50) -> 1200 | Q23: =MROUND(ROUNDDOWN(P24*0.8,-1),50) -> 1200 | S23: =MROUND(ROUNDDOWN(R24*0.8,-1),50) -> 1200 | U23: =MROUND(ROUNDDOWN(T24*0.8,-1),50) -> 1200 | W23: =MROUND(ROUNDDOWN(V24*0.8,-1),50) -> 1200 | X23: 마다리 | Z23: 0.6 | AB23: =Z23+AB25 -> 0.6 | AD23: =AB23+AD27 -> 0.6 | AF23: =AD23+AF29 -> 0.6 | AH23: =AF23+AH31 -> 0.6 | AJ23: =AH23+AJ33 -> 0.6 | AL23: =AJ23+AL35 -> 0.6 | AN23: =AL23+AN37 -> 0.6 | AP23: =AN23+AP39 -> 0.6
B24: =$P$1+MROUND(ROUNDDOWN(X4*$I$1,-1),50) -> 2900 | D24: =B24-$P$1 -> 1400 | F24: =IF((X5)<=$X$1,$P$1,$P$1+MROUND(ROUNDDOWN((X5-$X$1)*$I$1,-1),50)) -> 1700 | H24: =IF((X7)<=$X$1,$P$1,$P$1+MROUND(ROUNDDOWN((X7-$X$1)*$I$1,-1),50)) -> 1500 | J24: =IF((X9)<=8,P1,P1+ROUND(INT(((X9-8)*I1)),-1)) -> 1500 | L24: =IF((X11)<=8,P1,P1+ROUND(INT(((X11-8)*I1)),-1)) -> 1500 | N24: =IF((X13)<=8,P1,P1+ROUND(INT(((X13-8)*I1)),-1)) -> 1500 | P24: =IF((X15)<=8,P1,P1+ROUND(INT(((X15-8)*I1)),-1)) -> 1500 | R24: =IF((X17)<=8,P1,P1+ROUND(INT(((X17-8)*I1)),-1)) -> 1500 | T24: =IF((X19)<=8,P1,P1+ROUND(INT(((X19-8)*I1)),-1)) -> 1500 | V24: =IF((X21)<=8,P1,P1+ROUND(INT(((X21-8)*I1)),-1)) -> 1500
A25: 원마다리 | C25: =MROUND(ROUNDDOWN(B26*0.8,-1),50) -> 2350 | E25: =C25-$S$1 -> 1150 | G25: =MROUND(ROUNDDOWN(F26*0.8,-1),50) -> 1400 | I25: =MROUND(ROUNDDOWN(H26*0.8,-1),50) -> 1250 | K25: =MROUND(ROUNDDOWN(J26*0.8,-1),50) -> 1200 | M25: =MROUND(ROUNDDOWN(L26*0.8,-1),50) -> 1200 | O25: =MROUND(ROUNDDOWN(N26*0.8,-1),50) -> 1200 | Q25: =MROUND(ROUNDDOWN(P26*0.8,-1),50) -> 1200 | S25: =MROUND(ROUNDDOWN(R26*0.8,-1),50) -> 1200 | U25: =MROUND(ROUNDDOWN(T26*0.8,-1),50) -> 1200 | W25: =MROUND(ROUNDDOWN(V26*0.8,-1),50) -> 1200 | Y25: =MROUND(ROUNDDOWN(X26*0.8,-1),50) -> 1200 | Z25: 원마다리 | AD25: =AB25+AD27 -> 0 | AF25: =AD25+AF29 -> 0 | AH25: =AF25+AH31 -> 0 | AJ25: =AH25+AJ33 -> 0 | AL25: =AJ25+AL35 -> 0 | AN25: =AL25+AN37 -> 0 | AP25: =AN25+AP39 -> 0
B26: =$P$1+MROUND(ROUNDDOWN(Z4*$I$1,-1),50) -> 2950 | D26: =B26-$P$1 -> 1450 | F26: =IF((Z5)<=$X$1,$P$1,$P$1+MROUND(ROUNDDOWN((Z5-$X$1)*$I$1,-1),50)) -> 1750 | H26: =IF((Z7)<=$X$1,$P$1,$P$1+MROUND(ROUNDDOWN((Z7-$X$1)*$I$1,-1),50)) -> 1550 | J26: =IF((Z9)<=$X$1,$P$1,$P$1+MROUND(ROUNDDOWN((Z9-$X$1)*$I$1,-1),50)) -> 1500 | L26: =IF((Z11)<=8,P1,P1+ROUND(INT(((Z11-8)*I1)),-1)) -> 1500 | N26: =IF((Z13)<=8,P1,P1+ROUND(INT(((Z13-8)*I1)),-1)) -> 1500 | P26: =IF((Z15)<=8,P1,P1+ROUND(INT(((Z15-8)*I1)),-1)) -> 1500 | R26: =IF((Z17)<=8,P1,P1+ROUND(INT(((Z17-8)*I1)),-1)) -> 1500 | T26: =IF((Z19)<=8,P1,P1+ROUND(INT(((Z19-8)*I1)),-1)) -> 1500 | V26: =IF((Z21)<=8,P1,P1+ROUND(INT(((Z21-8)*I1)),-1)) -> 1500 | X26: =IF((Z23)<=8,P1,P1+ROUND(INT(((Z23-8)*I1)),-1)) -> 1500
A27: =AB27 -> 0 | C27: =MROUND(ROUNDDOWN(B28*0.8,-1),50) -> 2350 | E27: =C27-$S$1 -> 1150 | G27: =ROUND(F28*0.8,-1) -> 1420 | I27: =MROUND(ROUNDDOWN(H28*0.8,-1),50) -> 1250 | K27: =ROUND(J28*0.8,-1) -> 1200 | M27: =ROUND(L28*0.8,-1) -> 1200 | O27: =ROUND(N28*0.8,-1) -> 1200 | Q27: =ROUND(P28*0.8,-1) -> 1200 | S27: =ROUND(R28*0.8,-1) -> 1200 | U27: =ROUND(T28*0.8,-1) -> 1200 | W27: =ROUND(V28*0.8,-1) -> 1200 | Y27: =ROUND(X28*0.8,-1) -> 1200 | AA27: =ROUND(Z28*0.8,-1) -> 1200 | AF27: =AD27+AF29 -> 0 | AH27: =AF27+AH31 -> 0 | AJ27: =AH27+AJ33 -> 0 | AL27: =AJ27+AL35 -> 0 | AN27: =AL27+AN37 -> 0 | AP27: =AN27+AP39 -> 0
