Workbook

Sheet 작성 유의사항
A3: <서식 작성 시 유의사항>
A6: ○ 작성 유의사항 - 교육과정별 엑셀서식 내용 전부 기재(미작성 시 교육생에서 제외될 수 있음) - 반드시 '전주시 ○○구'도 포함하여 입력 - 생년월일 6자리로 입력 (00.00.00.) *생년월일 입력시 나이 자동 계산 - 엑셀 시트명 변경 불가 ○ 교육대상이 '농업인'으로 한정된 경우, '농지대장 또는 농업경영체등록'된 경우에 한하여 신청가능 ○ 1인당 최대 3과목까지 신청 가능(단, 교육기간이 겹치는 경우 중복 신청 불가) ○ 주민등록 주소지가 전주시인 경우, 해당 주소지 동주민센터 접수 가능(타시군 접수불가) ○ 교육신청 시 선발 우선순위 조건 확인 후 비고란에 기재 (관련 자격증 유무 등) ○ 온라인 강의는 실시간 수강 시에만 인정되며 다른 과정과 중복수강 불가

Sheet 배정인원
A1: 농식품인력개발원 '24년 11월 중 교육 과정 배정 인원
A2: (단위 : 명)
A3: 연번 | B3: 과정명 | C3: 합계 | D3: 전주시
B4: 합 계 | C4: =SUM(D4:D4) -> 26 | D4: =SUM(D5:D17) -> 26
A5: 1 | B5: 농업인 블로그운영(2기) | C5: =SUM(D5:D5) -> 2 | D5: 2
A6: 2 | B6: 고추 재배(2기) | C6: =SUM(D6:D6) -> 2 | D6: 2
A7: 3 | B7: 시설원예 스마트팜 입문(2기) | C7: =SUM(D7:D7) -> 1 | D7: 1
A8: 4 | B8: 기후변화와 에너지 절감 | C8: =SUM(D8:D8) -> 1 | D8: 1
A9: 5 | B9: 농업법인 세무·노무 | C9: =SUM(D9:D9) -> 2 | D9: 2
A10: 6 | B10: 장류(된장, 간장) 제조 | C10: =SUM(D10:D10) -> 2 | D10: 2
A11: 7 | B11: 품질관리 기초 | C11: =SUM(D11:D11) -> 2 | D11: 2
A12: 8 | B12: 유튜브 마케팅 | C12: =SUM(D12:D12) -> 3 | D12: 3
A13: 9 | B13: 양봉관리 기초 | C13: =SUM(D13:D13) -> 2 | D13: 2
A14: 10 | B14: 유제품(치즈) 제조 | C14: =SUM(D14:D14) -> 2 | D14: 2
A15: 11 | B15: 우리밀과 쌀 제과제빵 | C15: =SUM(D15:D15) -> 2 | D15: 2
A16: 12 | B16: 육제품(수제 소시지) 제조 | C16: =SUM(D16:D16) -> 2 | D16: 2
A17: 13 | B17: 후계농업경영인 육성사업 신청준비 | C17: =SUM(D17:D17) -> 3 | D17: 3

Sheet 1
A1: 교육대상자 추천 명단
A2: ○ 과정명 : | C2: =배정인원!B5 -> 농업인 블로그운영(2기)
A3: ○ 기 간 : | C3: 11. 5.(화) ~ 11. 7.(목) / 3일 (20시간)
A4: ○ 대 상 : | C4: 인터넷 활용 중급 이상 농업인
A5: 연번 | B5: 성 명 | C5: 신청동 | D5: 주 소
A6: 1 | B6: 박시용 | C6: 효자2동
A7: 2 | B7: 김규수 | C7: 호성동
A8: 3 | B8: 김정인 | C8: 조촌동
A9: 4 | B9: 이강근 | C9: 조촌동
A10: 5 | B10: 김경민 | C10: 효자3동
A11: 6 | B11: 김복수 | C11: 여의동

Sheet 3
A1: 교육대상자 추천 명단
A2: ○ 과정명 : | C2: =배정인원!B7 -> 시설원예 스마트팜 입문(2기)
A3: ○ 기 간 : | C3: 11. 19.(화) / 1일 (7시간)
A4: ○ 대 상 : | C4: 1. 시설원예 농업인 2. 교육 희망 농업인
A5: 연번 | B5: 성 명 | C5: 신청동 | D5: 주 소
A6: 1 | B6: 김규수 | C6: 호성동
A7: 2 | B7: 강영민 | C7: 우아2동
A8: 3 | B8: 김정인 | C8: 조촌동
A9: 4 | B9: 이강근 | C9: 조촌동
A10: 5 | B10: 백진선 | C10: 효자3동
A11: 6 | B11: 오혜민 | C11: 여의동
A12: 7 | B12: 김진기 | C12: 효자4동
A13: 8 | B13: 김동조 | C13: 평화2동

Sheet 4
A1: 교육대상자 추천 명단
A2: ○ 과정명 : | C2: =배정인원!B8 -> 기후변화와 에너지 절감
A3: ○ 기 간 : | C3: 11. 21. / 1일 (7시간)
A4: ○ 대 상 : | C4: 1. 시설원예 재배 농업인 2. 교육 희망 농업인
A5: 연번 | B5: 성 명 | C5: 신청동 | D5: 주 소
A6: 1 | B6: 옥성민 | C6: 삼천3동
A7: 2 | B7: 이병준 | C7: 효자5동
A8: 3 | B8: 김진기 | C8: 효자4동

Sheet 5
A1: 교육대상자 추천 명단
A2: ○ 과정명 : | C2: 농업법인 세무·노무
A3: ○ 기 간 : | C3: 11. 1.(금), 11. 8.(금), 11. 15.(금), 11. 22.(금) / 4일
A4: ○ 대 상 : | C4: 1. 1년이상 농업법인 회계실무자 2. 농업법인 설립준비자(후순위선발) | E4: [노란색 부분 반드시 기재]
A5: 연번 | B5: 성 명 | C5: 신청동 | D5: 주 소 | E5: 실무경력 | F5: 실무분야 | G5: 법인명
A6: 1 | B6: 김경민 | C6: 효자3동
A7: 2 | B7: 김영현 | C7: 혁신동 | G7: **

Sheet 6
A1: 교육대상자 추천 명단
A2: ○ 과정명 : | C2: 장류(된장, 간장) 제조
A3: ○ 기 간 : | C3: 11. 5.(화) ~ 11. 6.(수) / 2일
A4: ○ 대 상 : | C4: 1. 농업인, 귀농인 2. 교육희망자
A5: 연번 | B5: 성 명 | C5: 신청동 | D5: 주 소
A6: 1 | B6: 국혜정 | C6: 송천1동
A7: 2 | B7: 정경희 | C7: 혁신동
A8: 3 | B8: 황호경 | C8: 효자5동
A9: 4 | B9: 임대혁 | C9: 효자5동
A10: 5 | B10: 하재호 | C10: 중화산2동
A11: 6 | B11: 박윤규 | C11: 평화2동

Sheet 7
A1: 교육대상자 추천 명단
A2: ○ 과정명 : | C2: =[1]배정인원!B7 -> 품질관리 기초
A3: ○ 기 간 : | C3: 11. 12.(화) / 1일
A4: ○ 대 상 : | C4: 1. 식품영업자 2. 교육희망자
A5: 연번 | B5: 성 명 | C5: 신청동 | D5: 주 소
A6: 1 | B6: 이민희 | C6: 송천1동
A7: 2 | B7: 한광은 | C7: 송천2동
A8: 3 | B8: 이헌영 | C8: 효자4동

Sheet 8
A1: 교육대상자 추천 명단
A2: ○ 과정명 : | C2: =[2]배정인원!B5 -> 유튜브 마케팅
A3: ○ 기 간 : | C3: 11. 12.(화) ~ 11. 13.(수) / 2일
A4: ○ 대 상 : | C4: 1. 희망농업인 (단, 구글 계정 ID 및 비밀번호 확인가능한 분)
A5: 연번 | B5: 성 명 | C5: 신청동 | D5: 주 소
A6: 1 | B6: 김규수 | C6: 호성동
A7: 2 | B7: 이강근 | C7: 조촌동
A8: 3 | B8: 김경민 | C8: 효자3동
A9: 4 | B9: 백진선 | C9: 효자3동
A10: 5 | B10: 김복수 | C10: 여의동
A11: 6 | B11: 박윤규 | C11: 평화2동

Sheet 9
A1: 교육대상자 추천 명단
A2: ○ 과정명 : | C2: =[1]배정인원!B9 -> 양봉관리 기초
A3: ○ 기 간 : | C3: 11. 12.(화) ~ 11. 14.(목) / 3일
A4: ○ 대 상 : | C4: 1. 양봉 초보 농가(3년 미만) 2. 예비 양봉인
A5: 연번 | B5: 성 명 | C5: 생년월일 | D5: 주 소
A6: 1 | B6: 하용호 | C6: 송천2동
A7: 2 | B7: 하재호 | C7: 중화산2동
A8: 3 | B8: 김진기 | C8: 효자4동
A9: 4 | B9: 김동조 | C9: 평화2동

Sheet 10
A1: 교육대상자 추천 명단
A2: ○ 과정명 : | C2: =[1]배정인원!B10 -> 유제품(치즈) 제조
A3: ○ 기 간 : | C3: 11. 14.(목) / 1일
A4: ○ 대 상 : | C4: 교육희망 농업인
A5: 연번 | B5: 성 명 | C5: 신청동 | D5: 주 소
A6: 1 | B6: 국혜정 | C6: 송천1동
A7: 2 | B7: 이병준 | C7: 효자5동
A8: 3 | B8: 황호경 | C8: 효자5동
A9: 4 | B9: 김남숙 | C9: 효자5동
A10: 5 | B10: 이헌영 | C10: 효자4동

Sheet 11
A1: 교육대상자 추천 명단
A2: ○ 과정명 : | C2: =[1]배정인원!B11 -> 우리밀과 쌀 제과제빵
A3: ○ 기 간 : | C3: 11. 26.(화) ~ 11. 27.(수) / 2일
A4: ○ 대 상 : | C4: 교육희망 농업인
A5: 연번 | B5: 성 명 | C5: 신청동 | D5: 주 소
A6: 1 | B6: 국혜정 | C6: 송천1동
A7: 2 | B7: 양정임 | C7: 송천2동
A8: 3 | B8: 임대혁 | C8: 효자5동
A9: 4 | B9: 김남숙 | C9: 효자5동
A10: 5 | B10: 김복수 | C10: 여의동
A11: 6 | B11: 이헌영 | C11: 효자4동
A12: 7 | B12: 박윤규 | C12: 평화2동

Sheet 12
A1: 교육대상자 추천 명단
A2: ○ 과정명 : | C2: 육제품(수제 소시지) 제조
A3: ○ 기 간 : | C3: 11. 28.(목) ~ 11. 29.(금) / 2일
A4: ○ 대 상 : | C4: 교육희망 농업인
A5: 연번 | B5: 성 명 | C5: 신청동 | D5: 주 소
A6: 1 | B6: 양정임 | C6: 송천2동
A7: 2 | B7: 정경희 | C7: 혁신동
A8: 3 | B8: 이병준 | C8: 효자5동
A9: 4 | B9: 황호경 | C9: 효자5동
A10: 5 | B10: 김남숙 | C10: 효자5동
A11: 6 | B11: 하재호 | C11: 중화산2동

Sheet 13
A1: 교육대상자 추천 명단
A2: ○ 과정명 : | C2: =[2]배정인원!B6 -> 후계농업경영인 육성사업 신청준비(2기)
A3: ○ 기 간 : | C3: 11. 28.(목) ~ 11. 29.(금) / 2일
A4: ○ 대 상 : | C4: 후계농업경영인 신청희망자(만50세 미만)
A5: 연번 | B5: 성 명 | C5: 신청동 | D5: 주 소
A6: 1 | B6: 김지혜 | C6: 조촌동
